BEGIN:VCALENDAR
VERSION:2.0
PRODID:-//Knopspublishing - ECPv6.14.1//NONSGML v1.0//EN
CALSCALE:GREGORIAN
METHOD:PUBLISH
X-WR-CALNAME:Knopspublishing
X-ORIGINAL-URL:https://nl.knopspublishing.be
X-WR-CALDESC:Evenementen voor Knopspublishing
REFRESH-INTERVAL;VALUE=DURATION:PT1H
X-Robots-Tag:noindex
X-PUBLISHED-TTL:PT1H
BEGIN:VTIMEZONE
TZID:Europe/Brussels
BEGIN:DAYLIGHT
TZOFFSETFROM:+0100
TZOFFSETTO:+0200
TZNAME:CEST
DTSTART:20230326T010000
END:DAYLIGHT
BEGIN:STANDARD
TZOFFSETFROM:+0200
TZOFFSETTO:+0100
TZNAME:CET
DTSTART:20231029T010000
END:STANDARD
END:VTIMEZONE
BEGIN:VEVENT
DTSTART;TZID=Europe/Brussels:20231127T123000
DTEND;TZID=Europe/Brussels:20231127T150000
DTSTAMP:20260422T171711
CREATED:20230709T183652Z
LAST-MODIFIED:20230927T144303Z
UID:43761-1701088200-1701097200@nl.knopspublishing.be
SUMMARY:Praktische vragen en antwoorden bij de akte van onroerende erfopvolging - Beschouwingen na één jaar
DESCRIPTION:Opleiding enkel toegankelijk voor notarissen\, kandidaat-notarissen\, stagiairs en notariële medewerkers \nMet de komst van de onroerende erfopvolgingsakte op 1 juli 2022 ontstonden er voor de praktijk vele vragen. Op vandaag bestaan er nog steeds onduidelijkheden over de te verrichten opzoekingen\, de op te nemen inhoud en de fiscale behandeling van deze akte. In dit lunchseminarie komen deze kwesties aan bod\, alsook de bijzondere sanctie bij een gebrek aan akte\, en de soms onverwachte gevolgen ervan voor de praktijk. \nSpreker:\nMaarten De Clercq\, notaris te Stekene (Kemzeke) \nO.a. volgende vragen en topics worden tijdens dit lunchseminarie behandeld: \n\nKan een akte van erfopvolging worden opgemaakt voor slechts een deel van de onroerende goederen in de nalatenschap?\nWat bij twee opeenvolgende overlijdens\, wanneer er na het eerste overlijden geen akte werd opgemaakt?\nIs een akte nodig wanneer een recht van vruchtgebruik uitdooft?\nIs een akte nodig voor een terugval van vruchtgebruik?\nKan een Europese Erfrechtverklaring dienstdoen als akte van erfopvolging?\nHoe verhoudt de akte van erfopvolging zich tot bedingen van aanwas\, al dan niet onder optie?\nKan een schuldeiser van een erfgerechtigde vragen om een akte van erfopvolging op te maken?\nWanneer is een akte van erfopvolging vrijgesteld van registratierecht\, recht op geschriften en overschrijvingskosten?\nWelke erelonen zijn van toepassing?\n…\n\nProgrammaoverzicht \nKnopsPublishing is erkend als opleidingsverstrekker voor het systeem van de KMO-portefeuille. Het accreditatienummer van KnopsPublishing is DV.O245662\, thema: beroepspecifieke competenties \n\nPrijs: € 343 excl. btw per deelnemer\nIk schrijf me in samen met collegae: € 316 excl. btw per deelnemer
URL:https://nl.knopspublishing.be/opleiding/praktische-vragen-en-antwoorden-bij-de-akte-van-onroerende-erfopvolging-beschouwingen-na-een-jaar-22/
LOCATION:Notarishuis\, Koningin Elisabethlei 10\, Antwerpen\, 2018\, België
CATEGORIES:Algemeen,Notaris,Opleidingen
END:VEVENT
END:VCALENDAR