BEGIN:VCALENDAR
VERSION:2.0
PRODID:-//Knopspublishing - ECPv6.14.1//NONSGML v1.0//EN
CALSCALE:GREGORIAN
METHOD:PUBLISH
X-WR-CALNAME:Knopspublishing
X-ORIGINAL-URL:https://nl.knopspublishing.be
X-WR-CALDESC:Evenementen voor Knopspublishing
REFRESH-INTERVAL;VALUE=DURATION:PT1H
X-Robots-Tag:noindex
X-PUBLISHED-TTL:PT1H
BEGIN:VTIMEZONE
TZID:Europe/Brussels
BEGIN:DAYLIGHT
TZOFFSETFROM:+0100
TZOFFSETTO:+0200
TZNAME:CEST
DTSTART:20240331T010000
END:DAYLIGHT
BEGIN:STANDARD
TZOFFSETFROM:+0200
TZOFFSETTO:+0100
TZNAME:CET
DTSTART:20241027T010000
END:STANDARD
BEGIN:DAYLIGHT
TZOFFSETFROM:+0100
TZOFFSETTO:+0200
TZNAME:CEST
DTSTART:20250330T010000
END:DAYLIGHT
BEGIN:STANDARD
TZOFFSETFROM:+0200
TZOFFSETTO:+0100
TZNAME:CET
DTSTART:20251026T010000
END:STANDARD
BEGIN:DAYLIGHT
TZOFFSETFROM:+0100
TZOFFSETTO:+0200
TZNAME:CEST
DTSTART:20260329T010000
END:DAYLIGHT
BEGIN:STANDARD
TZOFFSETFROM:+0200
TZOFFSETTO:+0100
TZNAME:CET
DTSTART:20261025T010000
END:STANDARD
END:VTIMEZONE
BEGIN:VEVENT
DTSTART;TZID=Europe/Brussels:20260209T130000
DTEND;TZID=Europe/Brussels:20260209T170000
DTSTAMP:20260423T213054
CREATED:20251217T105445Z
LAST-MODIFIED:20260127T083447Z
UID:10000688-1770642000-1770656400@nl.knopspublishing.be
SUMMARY:Projectontwikkeling en ruimtelijke ordening: zes jaar Decreet Gemeentewegen en recente evoluties voor verkavelingen i.s.m. Jubel.be
DESCRIPTION:Opleiding voorbehouden voor omgevingsambtenaren\, advocaten\, notarissen\, projectontwikkelaars\, architecten\, landmeters\, praktijkjuristen in omgevingsrecht \nIn deze opleiding worden twee thema’s behandeld die in de praktijk van de projectontwikkeling voor veel vragen zorgen\, en die vaak voer voor discussie zijn in beroepsprocedures bij de deputatie en bij de Raad voor Vergunningsbetwistingen. \nDe eerste spreker behandelt het Gemeentewegendecreet. Dit decreet trad zes jaar geleden in werking en is van groot belang voor bouw- of verkavelingsprojecten met de aanleg van wegen voor autogebruik\, fietsers en/of voetgangers. De zogenaamde ‘zaak van de wegen’ waarvoor de gemeenteraad bevoegd is\, werd grondig gewijzigd. In zes jaar tijd heeft het decreet heel wat juridische discussies en rechtspraak opgeleverd. De opleiding geeft een uitvoerig rechtspraakoverzicht waarin de spreker alle juridische en praktische knelpunten bespreekt. Hij probeert inzicht en achtergrondinformatie te geven in de soms uiteenlopende rechtspraak. De spreker heeft hierbij zowel aandacht voor zowel inhoudelijke\, procedurele en praktische aandachtspunten\, en hij formuleert een aantal kritieken. De spreker geeft ook een doorkijk naar mogelijke decreetwijzigingen in de toekomst\, in het licht van het advies van de Gemengde Commissie Vergunningen. \nIn het tweede deel wordt een overzicht gegeven van de recente rechtspraak over verkavelingen. De verkavelingsvergunning bestaat al sinds de Stedenbouwwet van 1962 en de wetteksten hierover beslaan amper enkele regels. Toch – of net daarom – blijft het thema zorgen voor veel onduidelijkheid en discussies. Alleen al de vraag wanneer er een verkavelingsvergunning vereist is en wanneer niet\, zorgt in de praktijk voor heel veel vragen\, niet in het minst bij projecten met meerdere meergezinswoningen. Intussen wordt op beleidsniveau de vraag gesteld in welke mate een verkavelingsplicht nog noodzakelijk is. Hierover heeft de Vlaamse overheid een studie laten uitvoeren en heeft de Gemengde Commissie Vergunningen een advies verleend. De sprekers geven een doorkijk naar de wijzigingen die er meer dan waarschijnlijk op korte termijn aankomen. \nSprekers:\nPieter-Jan Defoort\, advocaat LDR Advocaten\nMatthias Strubbe\, advocaat LDR Advocaten\nMaxim Senesael\, advocaat LDR Advocaten \nDe opleiding is praktijkgericht en geïllustreerd met concrete voorbeelden\, handvaten en vuistregels voor de praktijk. Ze is gericht op omgevingsambtenaren\, advocaten\, notarissen\, projectontwikkelaars\, architecten\, landmeters en praktijkjuristen in omgevingsrecht die op de hoogte willen blijven van recente rechtspraak-evoluties en zich willen voorbereiden op de komende veranderingen. \nKnopsPublishing is erkend als opleidingsverstrekker voor het systeem van de KMO-portefeuille. Het accreditatienummer van KnopsPublishing is DV.O245662\, thema: beroepspecifieke competenties. \nProgramma \n\nPrijs: € 180 excl. btw per deelnemer
URL:https://nl.knopspublishing.be/opleiding/projectontwikkeling-en-ruimtelijke-ordening-zes-jaar-decreet-gemeentewegen-en-recente-evoluties-voor-verkavelingen-i-s-m-jubel-be/
LOCATION:Bedrijvencentrum De Punt\, Kerkstraat 108\, Gent\, Gentbrugge\, 9050\, België
CATEGORIES:Advocaat,Algemeen,Notaris,Opleidingen
ATTACH;FMTTYPE=image/jpeg:https://nl.knopspublishing.be/wp-content/uploads/2025/12/Projectontwikkeling-en-ruimtelijke-ordening-zes-jaar-Decreet-Gemeentewegen-en-recente-evoluties-voor-verkavelingen.jpg
END:VEVENT
BEGIN:VEVENT
DTSTART;TZID=Europe/Brussels:20250513T124500
DTEND;TZID=Europe/Brussels:20250513T180000
DTSTAMP:20260423T213054
CREATED:20250225T212832Z
LAST-MODIFIED:20250225T225035Z
UID:10000620-1747140300-1747159200@nl.knopspublishing.be
SUMMARY:Zonevreemde functiewijzigingen en verbouwingen van voormalige landbouwbedrijven - extra sessie
DESCRIPTION:Opleiding enkel toegankelijk voor notarissen\, kandidaat-notarissen\, stagiairs en notariële medewerkers \nDeze opleiding behandelt de mogelijkheden en de beperkingen van de zonevreemde regels inzake beëindigde landbouwbedrijven die de koper wil omvormen tot een residentiële woning of een vakantiewoning. Hierbij wordt een duidelijk onderscheid gemaakt tussen de vraag voor een functiewijziging en de vraag voor het uitvoeren van bouwwerken. De opleiding bespreekt alle rechtsgronden voor residentiële functiewijzigingen en daarnaast de toepassingsvoorwaarden\, knelpunten\, valkuilen en spitsvondigheden voor invulling en verbouwingen van de woning en de bijgebouwen. Dit wordt zoveel mogelijk geïllustreerd aan de hand van praktijkvoorbeelden. \nSpreker:\nPieter-Jan Defoort\, advocaat bij LDR Advocaten \nProgramma: \nO.a. volgende vragen worden tijdens deze opleiding beantwoord. Hierbij zal zoveel als mogelijk worden gewerkt met concrete casussen. \n\nWat als het Departement Landbouw en Visserij de functiewijziging ongunstig adviseert?\nWat als de vergunningstoestand niet in orde is omdat de functie in de praktijk al werd gewijzigd door een bewoning zonder vergunning?\nWat met een site die is opgenomen in de inventaris van bouwkundig erfgoed? Wat in natuurgebied of ander ruimtelijk kwetsbaar gebied? En wat in woonuitbreidingsgebied?\nWat als er werken werden uitgevoerd zonder vergunning in een zonevreemde woning die gelegen is in ruimtelijk kwetsbaar gebied? Wat is de verjaring van een stedenbouwkundig misdrijf?\nKan de woning worden verhuurd of verkocht als vakantiewoning? En omgekeerd? Kan de woning als tweede verblijf worden gebruikt?\nIs een vergunning nodig voor het omvormen tot “nieuwe woonvormen” zoals zorgwoning of co-housing?\nWat met een gemengd gebruik voor wonen en vrij beroep?\nHoe worden de 1.000 m³ berekend? Kan of moet het volume van een aangebouwd bijgebouw worden meegerekend bij het volume van de landbouwbedrijfswoning in de bestaande toestand?\nWelke werken kunnen zonder vergunning worden uitgevoerd? Voor welke werken is vergunning nodig? Is een melding van werken mogelijk?\nWat is “daadwerkelijke bewoning” voor de toepassing van de overmachtsregeling voor herbouw?\nWat met gebouwen die zich in een slechte toestand bevinden?\nMoet de compromis iets zeggen over de wens van de koper tot omvormen van een hoeve naar wonen?\nWat houdt de decretale verplichting in inzake het opleggen van een last voor een zonevreemde vergunning?\n…\n\nProgramma \nKnopsPublishing is erkend als opleidingsverstrekker voor het systeem van de KMO-portefeuille. Het accreditatienummer van KnopsPublishing is DV.O245662\, thema: beroepspecifieke competenties \n\nPrijs: € 480 excl. btw per deelnemer\nIk schrijf me in samen met collegae: € 445 excl. btw per deelnemer
URL:https://nl.knopspublishing.be/opleiding/zonevreemde-functiewijzigingen-en-verbouwingen-van-voormalige-landbouwbedrijven-2extra-sessie/
LOCATION:Vlerick Business School\, Reep 1\, Gent\, 9000\, Belgium
CATEGORIES:Algemeen,Notaris,Opleidingen
END:VEVENT
BEGIN:VEVENT
DTSTART;TZID=Europe/Brussels:20250317T130000
DTEND;TZID=Europe/Brussels:20250317T170000
DTSTAMP:20260423T213054
CREATED:20241218T081212Z
LAST-MODIFIED:20250311T122119Z
UID:10000536-1742216400-1742230800@nl.knopspublishing.be
SUMMARY:Zonevreemde functiewijzigingen en verbouwingen van voormalige landbouwbedrijven i.s.m. Jubel.be
DESCRIPTION:Deze opleiding behandelt de mogelijkheden en de beperkingen van de zonevreemde regels inzake beëindigde landbouwbedrijven die de koper wil omvormen tot een residentiële woning of een vakantiewoning. Hierbij wordt een duidelijk onderscheid gemaakt tussen de vraag voor een functiewijziging en de vraag voor het uitvoeren van bouwwerken. \nDe opleiding bespreekt alle rechtsgronden voor residentiële functiewijzigingen en daarnaast de toepassingsvoorwaarden\, knelpunten\, valkuilen en spitsvondigheden voor invulling en verbouwingen van de woning en de bijgebouwen. Dit wordt zoveel mogelijk geïllustreerd aan de hand van praktijkvoorbeelden. De opleiding is niet bedoeld als een theoretische en academische juridische uiteenzetting\, maar wel als een praktijkgerichte namiddag. \nSpreker:\nPieter-Jan Defoort\, advocaat bij LDR Advocaten \nProgramma \nKnopsPublishing is erkend als opleidingsverstrekker voor het systeem van de KMO-portefeuille. Het accreditatienummer van KnopsPublishing is DV.O245662\, thema: beroepspecifieke competenties \n\nPrijs: € 175 excl. btw per deelnemer
URL:https://nl.knopspublishing.be/opleiding/zonevreemde-functiewijzigingen-en-verbouwingen-van-voormailige-landbouwbedrijven-20/
LOCATION:Bedrijvencentrum De Punt\, Kerkstraat 108\, Gent\, Gentbrugge\, 9050\, België
CATEGORIES:Advocaat,Algemeen,Notaris,Opleidingen
END:VEVENT
BEGIN:VEVENT
DTSTART;TZID=Europe/Brussels:20250211T130000
DTEND;TZID=Europe/Brussels:20250211T170000
DTSTAMP:20260423T213054
CREATED:20241126T194148Z
LAST-MODIFIED:20250206T133250Z
UID:10000530-1739278800-1739293200@nl.knopspublishing.be
SUMMARY:Zonevreemde functiewijzigingen en verbouwingen van voormalige landbouwbedrijven i.s.m. Jubel.be
DESCRIPTION:Deze opleiding behandelt de mogelijkheden en de beperkingen van de zonevreemde regels inzake beëindigde landbouwbedrijven die de koper wil omvormen tot een residentiële woning of een vakantiewoning. Hierbij wordt een duidelijk onderscheid gemaakt tussen de vraag voor een functiewijziging en de vraag voor het uitvoeren van bouwwerken. \nDe opleiding bespreekt alle rechtsgronden voor residentiële functiewijzigingen en daarnaast de toepassingsvoorwaarden\, knelpunten\, valkuilen en spitsvondigheden voor invulling en verbouwingen van de woning en de bijgebouwen. Dit wordt zoveel mogelijk geïllustreerd aan de hand van praktijkvoorbeelden. De opleiding is niet bedoeld als een theoretische en academische juridische uiteenzetting\, maar wel als een praktijkgerichte namiddag. \nSpreker:\nPieter-Jan Defoort\, advocaat bij LDR Advocaten \nProgrammaoverzicht \nKnopsPublishing is erkend als opleidingsverstrekker voor het systeem van de KMO-portefeuille. Het accreditatienummer van KnopsPublishing is DV.O245662\, thema: beroepspecifieke competenties \n\nPrijs: € 175 excl. btw per deelnemer
URL:https://nl.knopspublishing.be/opleiding/zonevreemde-functiewijzigingen-en-verbouwingen-van-voormailige-landbouwbedrijven/
LOCATION:Bedrijvencentrum De Punt\, Kerkstraat 108\, Gent\, Gentbrugge\, 9050\, België
CATEGORIES:Advocaat,Algemeen,Notaris,Opleidingen
END:VEVENT
BEGIN:VEVENT
DTSTART;TZID=Europe/Brussels:20241106T130000
DTEND;TZID=Europe/Brussels:20241106T170000
DTSTAMP:20260423T213054
CREATED:20240501T165753Z
LAST-MODIFIED:20241112T142229Z
UID:10000591-1730898000-1730912400@nl.knopspublishing.be
SUMMARY:Zonevreemde functiewijzigingen en verbouwingen  van voormalige landbouwbedrijven (webinar) VOLZET
DESCRIPTION:Opleiding enkel toegankelijk voor notarissen\, kandidaat-notarissen\, stagiairs en notariële medewerkers \nDeze opleiding behandelt de mogelijkheden en de beperkingen van de zonevreemde regels inzake beëindigde landbouwbedrijven die de koper wil omvormen tot een residentiële woning of een vakantiewoning. Hierbij wordt een duidelijk onderscheid gemaakt tussen de vraag voor een functiewijziging en de vraag voor het uitvoeren van bouwwerken. De opleiding bespreekt alle rechtsgronden voor residentiële functiewijzigingen en daarnaast de toepassingsvoorwaarden\, knelpunten\, valkuilen en spitsvondigheden voor invulling en verbouwingen van de woning en de bijgebouwen. Dit wordt zoveel mogelijk geïllustreerd aan de hand van praktijkvoorbeelden. \nSpreker:\nPieter-Jan Defoort\, advocaat bij LDR Advocaten \nProgramma: \nO.a. volgende vragen worden tijdens deze opleiding beantwoord. Hierbij zal zoveel als mogelijk worden gewerkt met concrete casussen. \n\nWat als het Departement Landbouw en Visserij de functiewijziging ongunstig adviseert?\nWat als de vergunningstoestand niet in orde is omdat de functie in de praktijk al werd gewijzigd door een bewoning zonder vergunning?\nWat met een site die is opgenomen in de inventaris van bouwkundig erfgoed? Wat in natuurgebied of ander ruimtelijk kwetsbaar gebied? En wat in woonuitbreidingsgebied?\nWat als er werken werden uitgevoerd zonder vergunning in een zonevreemde woning die gelegen is in ruimtelijk kwetsbaar gebied? Wat is de verjaring van een stedenbouwkundig misdrijf?\nKan de woning worden verhuurd of verkocht als vakantiewoning? En omgekeerd? Kan de woning als tweede verblijf worden gebruikt?\nIs een vergunning nodig voor het omvormen tot “nieuwe woonvormen” zoals zorgwoning of co-housing?\nWat met een gemengd gebruik voor wonen en vrij beroep?\nHoe worden de 1.000 m³ berekend? Kan of moet het volume van een aangebouwd bijgebouw worden meegerekend bij het volume van de landbouwbedrijfswoning in de bestaande toestand?\nWelke werken kunnen zonder vergunning worden uitgevoerd? Voor welke werken is vergunning nodig? Is een melding van werken mogelijk?\nWat is “daadwerkelijke bewoning” voor de toepassing van de overmachtsregeling voor herbouw?\nWat met gebouwen die zich in een slechte toestand bevinden?\nMoet de compromis iets zeggen over de wens van de koper tot omvormen van een hoeve naar wonen?\nWat houdt de decretale verplichting in inzake het opleggen van een last voor een zonevreemde vergunning?\n…\n\nProgrammaoverzicht \nKnopsPublishing is erkend als opleidingsverstrekker voor het systeem van de KMO-portefeuille. Het accreditatienummer van KnopsPublishing is DV.O245662\, thema: beroepspecifieke competenties \n\nPrijs: € 467 excl. btw per deelnemer\nIk schrijf me in samen met collegae: € 430 excl. btw per deelnemer
URL:https://nl.knopspublishing.be/opleiding/zonevreemde-functiewijzigingen-en-verbouwingen-van-voormalige-landbouwbedrijven-2web/
CATEGORIES:Algemeen,Notaris,Opleidingen,Webinar
END:VEVENT
BEGIN:VEVENT
DTSTART;TZID=Europe/Brussels:20240925T124500
DTEND;TZID=Europe/Brussels:20240925T180000
DTSTAMP:20260423T213054
CREATED:20240501T164938Z
LAST-MODIFIED:20240628T120241Z
UID:10000590-1727268300-1727287200@nl.knopspublishing.be
SUMMARY:Zonevreemde functiewijzigingen en verbouwingen van voormalige landbouwbedrijven
DESCRIPTION:Opleiding enkel toegankelijk voor notarissen\, kandidaat-notarissen\, stagiairs en notariële medewerkers \nDeze opleiding behandelt de mogelijkheden en de beperkingen van de zonevreemde regels inzake beëindigde landbouwbedrijven die de koper wil omvormen tot een residentiële woning of een vakantiewoning. Hierbij wordt een duidelijk onderscheid gemaakt tussen de vraag voor een functiewijziging en de vraag voor het uitvoeren van bouwwerken. De opleiding bespreekt alle rechtsgronden voor residentiële functiewijzigingen en daarnaast de toepassingsvoorwaarden\, knelpunten\, valkuilen en spitsvondigheden voor invulling en verbouwingen van de woning en de bijgebouwen. Dit wordt zoveel mogelijk geïllustreerd aan de hand van praktijkvoorbeelden. \nSpreker:\nPieter-Jan Defoort\, advocaat bij LDR Advocaten \nProgramma: \nO.a. volgende vragen worden tijdens deze opleiding beantwoord. Hierbij zal zoveel als mogelijk worden gewerkt met concrete casussen. \n\nWat als het Departement Landbouw en Visserij de functiewijziging ongunstig adviseert?\nWat als de vergunningstoestand niet in orde is omdat de functie in de praktijk al werd gewijzigd door een bewoning zonder vergunning?\nWat met een site die is opgenomen in de inventaris van bouwkundig erfgoed? Wat in natuurgebied of ander ruimtelijk kwetsbaar gebied? En wat in woonuitbreidingsgebied?\nWat als er werken werden uitgevoerd zonder vergunning in een zonevreemde woning die gelegen is in ruimtelijk kwetsbaar gebied? Wat is de verjaring van een stedenbouwkundig misdrijf?\nKan de woning worden verhuurd of verkocht als vakantiewoning? En omgekeerd? Kan de woning als tweede verblijf worden gebruikt?\nIs een vergunning nodig voor het omvormen tot “nieuwe woonvormen” zoals zorgwoning of co-housing?\nWat met een gemengd gebruik voor wonen en vrij beroep?\nHoe worden de 1.000 m³ berekend? Kan of moet het volume van een aangebouwd bijgebouw worden meegerekend bij het volume van de landbouwbedrijfswoning in de bestaande toestand?\nWelke werken kunnen zonder vergunning worden uitgevoerd? Voor welke werken is vergunning nodig? Is een melding van werken mogelijk?\nWat is “daadwerkelijke bewoning” voor de toepassing van de overmachtsregeling voor herbouw?\nWat met gebouwen die zich in een slechte toestand bevinden?\nMoet de compromis iets zeggen over de wens van de koper tot omvormen van een hoeve naar wonen?\nWat houdt de decretale verplichting in inzake het opleggen van een last voor een zonevreemde vergunning?\n…\n\nProgrammaoverzicht \nKnopsPublishing is erkend als opleidingsverstrekker voor het systeem van de KMO-portefeuille. Het accreditatienummer van KnopsPublishing is DV.O245662\, thema: beroepspecifieke competenties \n\nPrijs: € 467 excl. btw per deelnemer\nIk schrijf me in samen met collegae: € 430 excl. btw per deelnemer
URL:https://nl.knopspublishing.be/opleiding/zonevreemde-functiewijzigingen-en-verbouwingen-van-voormalige-landbouwbedrijven/
LOCATION:Hotel Van der Valk\, Kapellestraat 146\, Oostkamp\, 8020\, Belgium
CATEGORIES:Algemeen,Notaris,Opleidingen
END:VEVENT
END:VCALENDAR