BEGIN:VCALENDAR
VERSION:2.0
PRODID:-//Knopspublishing - ECPv6.14.1//NONSGML v1.0//EN
CALSCALE:GREGORIAN
METHOD:PUBLISH
X-WR-CALNAME:Knopspublishing
X-ORIGINAL-URL:https://nl.knopspublishing.be
X-WR-CALDESC:Evenementen voor Knopspublishing
REFRESH-INTERVAL;VALUE=DURATION:PT1H
X-Robots-Tag:noindex
X-PUBLISHED-TTL:PT1H
BEGIN:VTIMEZONE
TZID:Europe/Brussels
BEGIN:DAYLIGHT
TZOFFSETFROM:+0100
TZOFFSETTO:+0200
TZNAME:CEST
DTSTART:20230326T010000
END:DAYLIGHT
BEGIN:STANDARD
TZOFFSETFROM:+0200
TZOFFSETTO:+0100
TZNAME:CET
DTSTART:20231029T010000
END:STANDARD
BEGIN:DAYLIGHT
TZOFFSETFROM:+0100
TZOFFSETTO:+0200
TZNAME:CEST
DTSTART:20240331T010000
END:DAYLIGHT
BEGIN:STANDARD
TZOFFSETFROM:+0200
TZOFFSETTO:+0100
TZNAME:CET
DTSTART:20241027T010000
END:STANDARD
BEGIN:DAYLIGHT
TZOFFSETFROM:+0100
TZOFFSETTO:+0200
TZNAME:CEST
DTSTART:20250330T010000
END:DAYLIGHT
BEGIN:STANDARD
TZOFFSETFROM:+0200
TZOFFSETTO:+0100
TZNAME:CET
DTSTART:20251026T010000
END:STANDARD
BEGIN:DAYLIGHT
TZOFFSETFROM:+0100
TZOFFSETTO:+0200
TZNAME:CEST
DTSTART:20260329T010000
END:DAYLIGHT
BEGIN:STANDARD
TZOFFSETFROM:+0200
TZOFFSETTO:+0100
TZNAME:CET
DTSTART:20261025T010000
END:STANDARD
END:VTIMEZONE
BEGIN:VEVENT
DTSTART;TZID=Europe/Brussels:20260312T160000
DTEND;TZID=Europe/Brussels:20260312T191500
DTSTAMP:20260421T095339
CREATED:20251031T150904Z
LAST-MODIFIED:20260126T195211Z
UID:10000671-1773331200-1773342900@nl.knopspublishing.be
SUMMARY:Het nieuwe recht inzake persoonlijke zekerheden  op maat van de gerechtsdeurwaarder (webinar)
DESCRIPTION:Opleiding enkel toegankelijk voor gerechtsdeurwaarders\, kandidaat-gerechtsdeurwaarders\, stagiairs en hun medewerkers.\nOm persoonlijke en gerichte interactie met de spreker te waarborgen\, is het aantal deelnemers beperkt. \nHet nieuwe recht inzake persoonlijke zekerheden treedt op 1 januari 2026 in werking. De nieuwe bepalingen\, voortaan ondergebracht in Boek 9\, Titel 1 BW\, hervormen het recht inzake borgtocht aanzienlijk. Dit seminarie licht de nieuwe regels toe vanuit het perspectief van de praktijk van de gerechtsdeurwaarder en legt daarbij ook het verband met het leerstuk van de kwijtschelding na faillissement en de mogelijkheid tot tenuitvoerlegging tegen medegehouden schuldenaars en partners. \nSpreker:\nDiederik Bruloot\, hoofddocent UGent en advocaat \nProgramma: \nOnder andere volgende vragen worden tijdens deze opleiding beantwoord: \n\nOnder welke voorwaarden kan worden uitgevoerd tegen een borgsteller?\nWat is het verschil tussen borgstelling en hoofdelijkheid tot zekerheid?\nWat is het verschil tussen een borgstelling en een autonome garantie?\nIs een borgstelling voor alle sommen geldig?\nWat is het bijzondere statuut van de consumentenborg?\nWanneer kan de borgsteller worden bevrijd?\nWat is het lot van de borgsteller in het kader van insolventieprocedures (faillissement en CSR)?\nHeeft de kwijtschelding na faillissement een impact op de borgsteller?\nWat is het gevolg van het faillissement van de hoofdschuldenaar voor de uitvoeringsmogelijkheden tegen borgstellers\, echtgenoten en andere medegehouden schuldenaars?\n\n\n…\n\nProgramma \n Indien uw kantoor onder PC336 valt\, kan u mogelijk gebruikmaken van een opleidingspremie ter waarde van € 30. Alle nuttige informatie vindt u op info@liberform.be.\nKnopsPublishing is erkend als opleidingsverstrekker voor het systeem van de KMO-portefeuille. Het accreditatienummer van KnopsPublishing is DV.O245662. Gelieve de tussenkomst via KMO-portefeuille van bij de registratie of inschrijving op de opleiding te melden en aan te vragen. Bij latere tussenkomsten en verzoeken tot\nterugbetaling dienen jammerlijk administratiekosten te worden aangerekend.\n \n\nPrijs: € 370 excl. btw per deelnemer\nIk schrijf me in samen met collegae: € 340 excl. btw per deelnemer
URL:https://nl.knopspublishing.be/opleiding/het-nieuwe-recht-inzake-persoonlijke-zekerheden-op-maat-van-de-gerechtsdeurwaarder-20/
CATEGORIES:Algemeen,Gerechtsdeurwaarder,Opleidingen,Webinar
ATTACH;FMTTYPE=image/jpeg:https://nl.knopspublishing.be/wp-content/uploads/2025/10/Het-nieuwe-recht-inzake-persoonnlijke-zekerheden-op-maat-van-de-gerechtsdeurwaarder-webinar-Bruloot.jpg
END:VEVENT
BEGIN:VEVENT
DTSTART;TZID=Europe/Brussels:20260209T160000
DTEND;TZID=Europe/Brussels:20260209T200000
DTSTAMP:20260421T095339
CREATED:20251031T144233Z
LAST-MODIFIED:20260126T193543Z
UID:10000670-1770652800-1770667200@nl.knopspublishing.be
SUMMARY:Het nieuwe recht inzake persoonlijke zekerheden  op maat van de gerechtsdeurwaarder
DESCRIPTION:Opleiding enkel toegankelijk voor gerechtsdeurwaarders\, kandidaat-gerechtsdeurwaarders\, stagiairs en hun medewerkers.\nOm persoonlijke en gerichte interactie met de spreker te waarborgen\, is het aantal deelnemers beperkt. \nHet nieuwe recht inzake persoonlijke zekerheden treedt op 1 januari 2026 in werking. De nieuwe bepalingen\, voortaan ondergebracht in Boek 9\, Titel 1 BW\, hervormen het recht inzake borgtocht aanzienlijk. Dit seminarie licht de nieuwe regels toe vanuit het perspectief van de praktijk van de gerechtsdeurwaarder en legt daarbij ook het verband met het leerstuk van de kwijtschelding na faillissement en de mogelijkheid tot tenuitvoerlegging tegen medegehouden schuldenaars en partners. \nSpreker:\nDiederik Bruloot\, hoofddocent UGent en advocaat \nProgramma: \nOnder andere volgende vragen worden tijdens deze opleiding beantwoord: \n\nOnder welke voorwaarden kan worden uitgevoerd tegen een borgsteller?\nWat is het verschil tussen borgstelling en hoofdelijkheid tot zekerheid?\nWat is het verschil tussen een borgstelling en een autonome garantie?\nIs een borgstelling voor alle sommen geldig?\nWat is het bijzondere statuut van de consumentenborg?\nWanneer kan de borgsteller worden bevrijd?\nWat is het lot van de borgsteller in het kader van insolventieprocedures (faillissement en CSR)?\nHeeft de kwijtschelding na faillissement een impact op de borgsteller?\nWat is het gevolg van het faillissement van de hoofdschuldenaar voor de uitvoeringsmogelijkheden tegen borgstellers\, echtgenoten en andere medegehouden schuldenaars?\n\n\n…\n\nProgramma \n Indien uw kantoor onder PC336 valt\, kan u mogelijk gebruikmaken van een opleidingspremie ter waarde van € 30. Alle nuttige informatie vindt u op info@liberform.be.\nKnopsPublishing is erkend als opleidingsverstrekker voor het systeem van de KMO-portefeuille. Het accreditatienummer van KnopsPublishing is DV.O245662. Gelieve de tussenkomst via KMO-portefeuille van bij de registratie of inschrijving op de opleiding te melden en aan te vragen. Bij latere tussenkomsten en verzoeken tot terugbetaling dienen jammerlijk administratiekosten te worden aangerekend.\n \n\nPrijs: € 370 excl. btw per deelnemer\nIk schrijf me in samen met collegae: € 340 excl. btw per deelnemer
URL:https://nl.knopspublishing.be/opleiding/het-nieuwe-recht-inzake-persoonlijke-zekerheden-op-maat-van-de-gerechtsdeurwaarder/
LOCATION:Vlerick Business School\, Reep 1\, Gent\, 9000\, Belgium
CATEGORIES:Algemeen,Gerechtsdeurwaarder,Opleidingen
ATTACH;FMTTYPE=image/jpeg:https://nl.knopspublishing.be/wp-content/uploads/2025/10/Het-nieuwe-recht-inzake-persoonnlijke-zekerheden-op-maat-van-de-gerechtsdeurwaarder-opleiding-Gent-Bruloot.jpg
END:VEVENT
BEGIN:VEVENT
DTSTART;TZID=Europe/Brussels:20240912T160000
DTEND;TZID=Europe/Brussels:20240912T200000
DTSTAMP:20260421T095339
CREATED:20240415T075556Z
LAST-MODIFIED:20240913T162654Z
UID:10000587-1726156800-1726171200@nl.knopspublishing.be
SUMMARY:Het nieuwe insolventierecht op maat van de gerechtsdeurwaarder
DESCRIPTION:Seminarie enkel toegankelijk voor (stagiair- en kandidaat-) gerechtsdeurwaarders en hun medewerkers \nMet ingang van 1 september 2023 werd het insolventierecht andermaal grondig hervormd. Het aantal beschikbare procedures werd aanzienlijk uitgebreid (o.m. besloten reorganisatieprocedure\, gerechtelijke ontbinding\, stil faillissement) en binnen de bestaande procedures (reorganisatie en faillissement) werden een aantal belangrijke wijzigingen aangebracht (o.m. inzake kwijtschelding en antimisbruikbepalingen). Veel van deze ontwikkelingen hebben een rechtstreekse impact op de praktijk van de gerechtsdeurwaarder die de gedwongen tenuitvoerlegging niet zelden doorkruist ziet door de start van een collectieve insolventieprocedure. \nTijdens deze uiteenzetting wordt vooreerst een overzicht geboden van het nieuwe “insolventielandschap” na deze grote hervorming. Daarna wordt verder ingezoomd op de deelaspecten van de diverse procedures die specifiek relevant zijn voor de praktijk van de gerechtsdeurwaarder \nSpreker:\nDiederik Bruloot\, professor\, Instituut Financieel recht\, UGent\, en advocaat\, DLA Piper \nProgramma: \nOnder andere volgende vragen komen aan bod: \n\nWelke nieuwe procedures werden ingevoerd? O.m.\n\nbesloten reorganisatieprocedure\nreorganisatieprocedure voor grote ondernemingen\nstil faillissement\ngerechtelijke ontbinding van failliete vennootschappen\n\n\nWelke impact hebben deze procedures op de individuele middelen van tenuitvoerlegging?\nWelke wijzigingen werden aangebracht om misbruik van de reorganisatieprocedure tegen te gaan?\nWelke wijzigingen zijn er op het vlak van de kwijtschelding natuurlijke personen-gefailleerden? Welke impact heeft de kwijtschelding op de middelen van tenuitvoerlegging ten aanzien van de gefailleerde en diens partner?\nWelke middelen van tenuitvoerlegging kunnen nog worden aangewend tijdens de klassieke procedure van gerechtelijke reorganisatieprocedure en wat zijn daarbij “good practices”?\n…\n\nProgrammaoverzicht \n Indien uw kantoor onder PC336 valt\, kan u mogelijk gebruikmaken van een opleidingspremie ter waarde van € 30. Alle nuttige informatie vindt u op info@liberform.be. \n\nPrijs: € 349 excl. btw per deelnemer\nIk schrijf me in samen met collegae: € 321 excl. btw per deelnemer
URL:https://nl.knopspublishing.be/opleiding/het-nieuwe-insolventierecht-op-maat-van-de-gerechtsdeurwaarder-2/
LOCATION:Salons van Edel\, Terbekehofdreef 13\, Antwerpen\, 2610\, Belgium
CATEGORIES:Algemeen,Gerechtsdeurwaarder,Opleidingen
END:VEVENT
BEGIN:VEVENT
DTSTART;TZID=Europe/Brussels:20240625T160000
DTEND;TZID=Europe/Brussels:20240625T200000
DTSTAMP:20260421T095339
CREATED:20240415T074113Z
LAST-MODIFIED:20240627T094236Z
UID:10000586-1719331200-1719345600@nl.knopspublishing.be
SUMMARY:Het nieuwe insolventierecht op maat van de gerechtsdeurwaarder
DESCRIPTION:Seminarie enkel toegankelijk voor (stagiair- en kandidaat-) gerechtsdeurwaarders en hun medewerkers \nMet ingang van 1 september 2023 werd het insolventierecht andermaal grondig hervormd. Het aantal beschikbare procedures werd aanzienlijk uitgebreid (o.m. besloten reorganisatieprocedure\, gerechtelijke ontbinding\, stil faillissement) en binnen de bestaande procedures (reorganisatie en faillissement) werden een aantal belangrijke wijzigingen aangebracht (o.m. inzake kwijtschelding en antimisbruikbepalingen). Veel van deze ontwikkelingen hebben een rechtstreekse impact op de praktijk van de gerechtsdeurwaarder die de gedwongen tenuitvoerlegging niet zelden doorkruist ziet door de start van een collectieve insolventieprocedure. \nTijdens deze uiteenzetting wordt vooreerst een overzicht geboden van het nieuwe “insolventielandschap” na deze grote hervorming. Daarna wordt verder ingezoomd op de deelaspecten van de diverse procedures die specifiek relevant zijn voor de praktijk van de gerechtsdeurwaarder \nSpreker:\nDiederik Bruloot\, professor\, Instituut Financieel recht\, UGent\, en advocaat\, DLA Piper \nProgramma: \nOnder andere volgende vragen komen aan bod: \n\nWelke nieuwe procedures werden ingevoerd? O.m.\n\nbesloten reorganisatieprocedure\nreorganisatieprocedure voor grote ondernemingen\nstil faillissement\ngerechtelijke ontbinding van failliete vennootschappen\n\n\nWelke impact hebben deze procedures op de individuele middelen van tenuitvoerlegging?\nWelke wijzigingen werden aangebracht om misbruik van de reorganisatieprocedure tegen te gaan?\nWelke wijzigingen zijn er op het vlak van de kwijtschelding natuurlijke personen-gefailleerden? Welke impact heeft de kwijtschelding op de middelen van tenuitvoerlegging ten aanzien van de gefailleerde en diens partner?\nWelke middelen van tenuitvoerlegging kunnen nog worden aangewend tijdens de klassieke procedure van gerechtelijke reorganisatieprocedure en wat zijn daarbij “good practices”?\n…\n\nProgrammaoverzicht \n Indien uw kantoor onder PC336 valt\, kan u mogelijk gebruikmaken van een opleidingspremie ter waarde van € 30. Alle nuttige informatie vindt u op info@liberform.be. \n\nPrijs: € 349 excl. btw per deelnemer\nIk schrijf me in samen met collegae: € 321 excl. btw per deelnemer
URL:https://nl.knopspublishing.be/opleiding/het-nieuwe-insolventierecht-op-maat-van-de-gerechtsdeurwaarder/
LOCATION:Auberge du Pêcheur\, Pontstraat 41\, Sint-Martens-Latem\, 9831\, Belgium
CATEGORIES:Algemeen,Gerechtsdeurwaarder,Opleidingen
END:VEVENT
BEGIN:VEVENT
DTSTART;TZID=Europe/Brussels:20230620T124500
DTEND;TZID=Europe/Brussels:20230620T180000
DTSTAMP:20260421T095339
CREATED:20221225T133241Z
LAST-MODIFIED:20240126T160820Z
UID:10000548-1687265100-1687284000@nl.knopspublishing.be
SUMMARY:Wetboek van vennootschappen en verenigingen: einde van het overgangsregime - pijnpunten en reparaties (webinar)
DESCRIPTION:Opleiding enkel toegankelijk voor (kandidaat-)notarissen\, stagiairs en notariële medewerkers \nOp 31 december 2023 verstrijkt het overgangsregime van het WVV. Als gevolg hiervan dienen alle ondernemingen uitgebaat in een niet door het WVV afgeschafte vennootschapsvorm uiterlijk op 1 januari 2024 hun statuten in overeenstemming met de bepalingen van het WVV te hebben gebracht. Ondernemingen uitgebaat in een wel door het WVV afgeschafte vennootschapsvorm (waaronder de Comm.VA\, CVOA en de oneigenlijke CVBA) worden vanaf die datum automatisch op grond van de wet omgezet in de vennootschaps-vorm die de wetgever op voorhand voor hen heeft bepaald. \nDe professoren Bruloot en Maresceau gaan dieper in op het voormelde overgangsregime\, met specifieke aandacht voor de notariële praktijk. Zij besteden aandacht aan de onduidelijkheden\, anomalieën en vraagstukken waarmee u als notaris wordt geconfronteerd evenals de wijze waarop de – wellicht op til staande – reparatiewetgeving hierop een antwoord zal trachten te bieden. \nDaarnaast schenken zij aandacht aan de nieuwe wetgeving inzake grensoverschrijdende fusies en grensoverschrijdende omzettingen\, die ook zijn gevolgen zal kennen voor de binnenlandse herstructureringen. \nSprekers:\nDiederik Bruloot\, professor\, Instituut Financieel recht\, UGent en advocaat DLA Piper\nKristof Maresceau\, professor\, Instituut Financieel recht\, UGent en advocaat Deloitte Legal \nProgramma: \nTijdens deze opleiding komen onder meer volgende topics aan bod: \n\nOvergangsregime WVV: overzicht\nKapitaal: bijzonderheden voor de notariële praktijk\nAfgeschafte vennootschapsvormen: overgangsregime\nStatuten inzake doel\, voorwerp en zetel: aandachtspunten bij aanpassing\nStatuten inzake aandelen en vermogen: bijzonderheden\nStatuten inzake bestuur: aandachtspunten voor de notaris\nGrensoverschrijdende fusies en omzettingen: impact wijzigingen\nTe verwachten reparaties WVV en hun impact\n\nProgrammaoverzicht \nKnopsPublishing is erkend als opleidingsverstrekker voor het systeem van de KMO-portefeuille. Het accreditatienummer van KnopsPublishing is DV.O245662. \n\nPrijs: € 453 excl. btw per deelnemer\nIk schrijf me in samen met collegae: € 417 excl. btw per deelnemer
URL:https://nl.knopspublishing.be/opleiding/wetboek-van-vennootschappen-en-vereningen-einde-van-het-overgangsregime-pijnpunten-en-reparaties-2-2/
CATEGORIES:Algemeen,Notaris,Opleidingen,Webinar
END:VEVENT
BEGIN:VEVENT
DTSTART;TZID=Europe/Brussels:20230530T124500
DTEND;TZID=Europe/Brussels:20230530T180000
DTSTAMP:20260421T095339
CREATED:20221225T132311Z
LAST-MODIFIED:20230515T130552Z
UID:10000547-1685450700-1685469600@nl.knopspublishing.be
SUMMARY:Wetboek van vennootschappen en verenigingen: einde van het overgangsregime - pijnpunten en reparaties
DESCRIPTION:Opleiding enkel toegankelijk voor (kandidaat-)notarissen\, stagiairs en notariële medewerkers \nOp 31 december 2023 verstrijkt het overgangsregime van het WVV. Als gevolg hiervan dienen alle ondernemingen uitgebaat in een niet door het WVV afgeschafte vennootschapsvorm uiterlijk op 1 januari 2024 hun statuten in overeenstemming met de bepalingen van het WVV te hebben gebracht. Ondernemingen uitgebaat in een wel door het WVV afgeschafte vennootschapsvorm (waaronder de Comm.VA\, CVOA en de oneigenlijke CVBA) worden vanaf die datum automatisch op grond van de wet omgezet in de vennootschaps-vorm die de wetgever op voorhand voor hen heeft bepaald. \nDe professoren Bruloot en Maresceau gaan dieper in op het voormelde overgangsregime\, met specifieke aandacht voor de notariële praktijk. Zij besteden aandacht aan de onduidelijkheden\, anomalieën en vraagstukken waarmee u als notaris wordt geconfronteerd evenals de wijze waarop de – wellicht op til staande – reparatiewetgeving hierop een antwoord zal trachten te bieden. \nDaarnaast schenken zij aandacht aan de nieuwe wetgeving inzake grensoverschrijdende fusies en grensoverschrijdende omzettingen\, die ook zijn gevolgen zal kennen voor de binnenlandse herstructureringen. \nSprekers:\nDiederik Bruloot\, professor\, Instituut Financieel recht\, UGent en advocaat DLA Piper\nKristof Maresceau\, professor\, Instituut Financieel recht\, UGent en advocaat Deloitte Legal \nProgramma: \nTijdens deze opleiding komen onder meer volgende topics aan bod: \n\nOvergangsregime WVV: overzicht\nKapitaal: bijzonderheden voor de notariële praktijk\nAfgeschafte vennootschapsvormen: overgangsregime\nStatuten inzake doel\, voorwerp en zetel: aandachtspunten bij aanpassing\nStatuten inzake aandelen en vermogen: bijzonderheden\nStatuten inzake bestuur: aandachtspunten voor de notaris\nGrensoverschrijdende fusies en omzettingen: impact wijzigingen\nTe verwachten reparaties WVV en hun impact\n\nProgrammaoverzicht \nKnopsPublishing is erkend als opleidingsverstrekker voor het systeem van de KMO-portefeuille. Het accreditatienummer van KnopsPublishing is DV.O245662. \n\nPrijs: € 453 excl. btw per deelnemer\nIk schrijf me in samen met collegae: € 417 excl. btw per deelnemer
URL:https://nl.knopspublishing.be/opleiding/wetboek-van-vennootschappen-en-vereningen-einde-van-het-overgangsregime-pijnpunten-en-reparaties/
LOCATION:De Barrier\, Grote Baan 9\, Houthalen\, 3530\, Belgium
CATEGORIES:Algemeen,Notaris,Opleidingen
END:VEVENT
END:VCALENDAR