BEGIN:VCALENDAR
VERSION:2.0
PRODID:-//Knopspublishing - ECPv6.14.1//NONSGML v1.0//EN
CALSCALE:GREGORIAN
METHOD:PUBLISH
X-ORIGINAL-URL:https://nl.knopspublishing.be
X-WR-CALDESC:Evenementen voor Knopspublishing
REFRESH-INTERVAL;VALUE=DURATION:PT1H
X-Robots-Tag:noindex
X-PUBLISHED-TTL:PT1H
BEGIN:VTIMEZONE
TZID:Europe/Brussels
BEGIN:DAYLIGHT
TZOFFSETFROM:+0100
TZOFFSETTO:+0200
TZNAME:CEST
DTSTART:20250330T010000
END:DAYLIGHT
BEGIN:STANDARD
TZOFFSETFROM:+0200
TZOFFSETTO:+0100
TZNAME:CET
DTSTART:20251026T010000
END:STANDARD
END:VTIMEZONE
BEGIN:VEVENT
DTSTART;TZID=Europe/Brussels:20250324T124500
DTEND;TZID=Europe/Brussels:20250324T180000
DTSTAMP:20260425T163611
CREATED:20241124T201627Z
LAST-MODIFIED:20250326T123453Z
UID:10000520-1742820300-1742839200@nl.knopspublishing.be
SUMMARY:Reserve en inkorting: civiel en fiscaal
DESCRIPTION:Opleiding enkel toegankelijk voor notarissen\, kandidaat-notarissen\, stagiairs en notariële medewerkers \nIn deze opleiding staan reserve en inkorting centraal. Deze rechtsfiguren worden belicht vanuit zowel civiel als fiscaal oogpunt. \nSinds 2018 geldt dat de erfrechtelijke reserve principieel in waarde beschermd wordt. Slechts in uitzonderingsgevallen kan er nog in natura worden ingekort. Hoewel deze principes inmiddels gekend zijn\, bestaan er inzake de toepassing ervan nog veel onopgeloste vragen. Ook wordt nagegaan welke actiemogelijkheden de ‘onterfde’ reservatair heeft en wat de fiscale impact is van zijn optreden. Zowel het optreden in rechte als minnelijke oplossingen voor de onterving worden besproken. \nDeze opleiding biedt antwoorden voor de notariële praktijk en besteedt daarbij speciale aandacht aan de wisselwerking tussen het civiel en het fiscaal recht. \nDe mogelijkheden tot onterving door de toekomstige erflater maken deel uit van de opleiding “Een kind en/of een echtgenoot onterven: mogelijkheden voor de erflater”\, eveneens georganiseerd door KnopsPublishing. \nSpreker:\nAnnick Ghysens (†)\, ereadviseur kenniscel erf- en registratiebelasting VLABEL\nBart Van den Bergh\, raadsheer en dienstdoend kamervoorzitter in het hof van beroep te Antwerpen\, lid CSW\, wetenschappelijk medewerker UHasselt \nProgramma: \nO.a. volgende vragen worden tijdens deze opleiding beantwoord: \n\nWat zijn de actiemogelijkheden van de ‘onterfde’ reservatair?\nZijn alle inkortingsregels van dwingend recht?\nKan de testator de erfrechtelijke verrekening van eerder gedane giften beïnvloeden?\nWat is het onderscheid tussen verdeelboedel en rekenboedel?\nWat betekent het voor de fiscale ‘splitting’ tussen roerend en onroerend vermogen wanneer een schenking van een onroerend goed in waarde wordt ingekort?\nWelke implicaties zijn er civiel en fiscaal indien de inkorting maar ten aanzien van bepaalde begiftigden gevraagd wordt\, of zelfs helemaal niet?\nHoe moet de inkorting in natura in het aangifteformulier worden opgenomen? Is dit verschillend wanneer de wet dit oplegt als het de begiftigde was die voor inkorting in natura gekozen heeft?\nHoe en wanneer moet de notaris de keuze voor inkorting in natura akteren?\nWat is de fiscale impact van een dading betreffende het (niet) uitoefenen van een inkortingsvordering? Kan er daarover een ruling gevraagd worden?\nWat als de reservataire erfgenamen een legaat niet inkorten\, maar een nietigheidsvordering instellen tegen het testament? Welke fiscale implicaties heeft de precieze betwistingsgrond?\nHoe reageert Vlabel als er een betwisting bestaat over de civiele kwalificatie als ‘gift’\, bijvoorbeeld inzake een aanwasbeding of een levensverzekeringsuitkering?\nHoe moeten derde-begiftigden bij een vereffening-verdeling worden betrokken indien er inkorting moet gebeuren of waarschijnlijk is?\nHoe verhoudt de kwalitatieve reserve zich t.a.v. de kwantitatieve reserve?\nDe volatiliteit van de rekenboedel: never ending …?\n…\n\nProgramma \nKnopsPublishing is erkend als opleidingsverstrekker voor het systeem van de KMO-portefeuille. Het accreditatienummer van KnopsPublishing is DV.O245662\, thema: beroepspecifieke competenties \n\nPrijs: € 467 excl. btw per deelnemer\nIk schrijf me in samen met collegae: € 430 excl. btw per deelnemer
URL:https://nl.knopspublishing.be/opleiding/reserve-en-inkorting-civiel-en-fiscaal-23-2/
LOCATION:Vlerick Business School Leuven\, Vlamingenstraat 83\, Leuven\, België
CATEGORIES:Algemeen,Notaris,Opleidingen
END:VEVENT
END:VCALENDAR