BEGIN:VCALENDAR
VERSION:2.0
PRODID:-//Knopspublishing - ECPv6.14.1//NONSGML v1.0//EN
CALSCALE:GREGORIAN
METHOD:PUBLISH
X-ORIGINAL-URL:https://nl.knopspublishing.be
X-WR-CALDESC:Evenementen voor Knopspublishing
REFRESH-INTERVAL;VALUE=DURATION:PT1H
X-Robots-Tag:noindex
X-PUBLISHED-TTL:PT1H
BEGIN:VTIMEZONE
TZID:Europe/Brussels
BEGIN:DAYLIGHT
TZOFFSETFROM:+0100
TZOFFSETTO:+0200
TZNAME:CEST
DTSTART:20240331T010000
END:DAYLIGHT
BEGIN:STANDARD
TZOFFSETFROM:+0200
TZOFFSETTO:+0100
TZNAME:CET
DTSTART:20241027T010000
END:STANDARD
END:VTIMEZONE
BEGIN:VEVENT
DTSTART;TZID=Europe/Brussels:20240508T130000
DTEND;TZID=Europe/Brussels:20240508T150000
DTSTAMP:20260422T044511
CREATED:20240115T095310Z
LAST-MODIFIED:20240326T164814Z
UID:10000575-1715173200-1715180400@nl.knopspublishing.be
SUMMARY:Nieuwe btw-regels afbraak en heropbouw (webinar)
DESCRIPTION:Opleiding enkel toegankelijk voor notarissen\, kandidaat-notarissen\, stagiairs en notariële medewerkers \nDe btw-regeling rond afbraak en heropbouw werd n.a.v. het federaal begrotingsakkoord grondig hervormd. Met ingang van 1 januari 2024 is de toepassing van het verlaagd btw-tarief van 6% voor afbraak en heropbouw aanzienlijk ingeperkt. In 2024 zijn er overgangsregelingen van kracht die onder bepaalde voorwaarden kunnen worden toegepast. Nieuwe spelregels dus die enige toelichting vereisen. \nSprekers:\nStijn Vastmans\, advocaat Tiberghien advocaten\nStein De Maeijer\, advocaat Tiberghien advocaten\n\nProgramma \n\nHoe ziet de nieuwe\, permanente regeling afbraak en heropbouw eruit?\nWelke overgangsmaatregelen zijn er van kracht en onder welke voorwaarden kan hiervan toepassing worden gemaakt?\nWat zijn de gevolgen voor de vastgoedpraktijk?\nEvolutie in de zienswijze van de administratie\, centrale diensten en dienst voorafgaande beslissingen.\nBlijvende discussiepunten in afbraak en heropbouw dossiers.\n…\n\nProgrammaoverzicht \nKnopsPublishing is erkend als opleidingsverstrekker voor het systeem van de KMO-portefeuille. Het accreditatienummer van KnopsPublishing is DV.O245662\, thema: beroepspecifieke competenties. \n\nPrijs: € 376 excl. btw per deelnemer\nIk schrijf me in samen met collegae: € 346 excl. btw per deelnemer
URL:https://nl.knopspublishing.be/opleiding/nieuwe-btw-regels-afbraak-en-heropbouw-2/
CATEGORIES:Algemeen,Notaris,Opleidingen,Webinar
END:VEVENT
BEGIN:VEVENT
DTSTART;TZID=Europe/Brussels:20240523T123000
DTEND;TZID=Europe/Brussels:20240523T150000
DTSTAMP:20260422T044511
CREATED:20240129T144315Z
LAST-MODIFIED:20240307T120423Z
UID:10000576-1716467400-1716476400@nl.knopspublishing.be
SUMMARY:Erfpacht en opstal en de heffing van het registratierecht/de registratiebelasting
DESCRIPTION:Opleiding enkel toegankelijk voor notarissen\, kandidaat-notarissen\, stagiairs en notariële medewerkers \nDe recente verhoging van het tarief van het registratierecht op de vestiging van opstal- of erfpachtrecht heeft ervoor gezorgd dat deze zakelijke rechten opnieuw in de actualiteit zijn gekomen. Dit is een uitstekende gelegenheid om eens een overzicht te geven van de toepassing van het registratierecht en de registratiebelasting die verschuldigd kunnen zijn in de verschillende situaties waar er sprake is van een opstal- of erfpachtrecht. \nSpreker:\nAnnick Ghysens\, ereadviseur kenniscel erf- en registratiebelasting VLABEL \nProgramma: \n\nWelke heffing gebeurt er bij de vestiging van een opstal- of erfpachtrecht? En bij de overdracht van een dergelijk recht?\nHoe zit het als er een opstal- of erfpachtrecht wordt gevestigd of overgedragen waarbij ook bestaande gebouwen worden overgedragen?\nEn wat als deze gebouwen bestemd zijn voor de sloop?\nGebeurt er een bijkomende heffing als er ook erfdienstbaarheden moeten worden gevestigd?\nWelke heffing gebeurt er in het geval van de verlenging of de vernieuwing van een opstal- of erfpachtrecht?\nGeeft de beëindiging van een opstal- of erfpachtrecht aanleiding tot een heffing en zo ja\, welke?\nHoe zat het nu ook alweer met een split sale en wat gebeurt er als deze wordt wedersamengesteld?\n\nVerder krijgen de deelnemers de gelegenheid hun eigen vragen voor te leggen aan de spreker. \nProgrammaoverzicht \nKnopsPublishing is erkend als opleidingsverstrekker voor het systeem van de KMO-portefeuille. Het accreditatienummer van KnopsPublishing is DV.O245662\, thema: beroepspecifieke competenties \n\nPrijs: € 376 excl. btw per deelnemer\nIk schrijf me in samen met collegae: € 346 excl. btw per deelnemer
URL:https://nl.knopspublishing.be/opleiding/erfpacht-en-opstal-en-de-heffing-van-het-registratierecht-de-registratiebelasting/
LOCATION:Vlerick Business School\, Reep 1\, Gent\, 9000\, Belgium
CATEGORIES:Algemeen,Notaris,Opleidingen
END:VEVENT
BEGIN:VEVENT
DTSTART;TZID=Europe/Brussels:20240527T130000
DTEND;TZID=Europe/Brussels:20240527T170000
DTSTAMP:20260422T044511
CREATED:20231217T124812Z
LAST-MODIFIED:20240305T115504Z
UID:10000572-1716814800-1716829200@nl.knopspublishing.be
SUMMARY:Goederenrecht als bypass voor familiaal vermogensrecht: zakenrechtelijke oplossingen in familiale en relationele context (webinar)
DESCRIPTION:Opleiding enkel toegankelijk voor notarissen\, kandidaat-notarissen\, stagiairs en notariële medewerkers \nDe verwevenheid tussen (huwelijks en buitenhuwelijks) partnerschap en goederenrecht vormt een grote uitdaging voor de rechtspracticus\, maar biedt tevens opportuniteiten. \nDe wisselwerking tussen beide rechtstakken is uitermate groot\, aangezien het familiaal vermogensrecht werkt met goederenrechtelijke rechtsfiguren zoals het vruchtgebruik\, het opstalrecht en de mede-eigendom. Daardoor biedt een grondige kennis van het goederenrecht\, waar concepten aan bod komen zoals bijvoorbeeld zaakvervanging\, vaak een oplossing voor relatievermogensrechtelijke vraagstukken. Bij heel wat relatie-vermogensrechtelijke vraagstukken werkt ook het goederenrechtelijk specialiteitsbeginsel en eenheidsbeginsel door. \nVooral in partnerrelaties waar geen wettelijk systeem van vergoedingsrekeningen bestaat (bij gehuwden onder een stelsel van scheiding van goederen\, bij wettelijke en bij feitelijke samenwoning) kan het (nieuw) goederenrecht een valabel alternatief – en zelfs een meerwaarde – bieden in vergelijking met klassieke verbintenisrechtelijke remedies zoals de verrijkingsvordering. \nSpreker:\nBart Van den Bergh\, Raadsheer en dienstdoend kamervoorzitter in het hof van beroep te Antwerpen\, lid CSW\, wetenschappelijk medewerker UHasselt \nProgramma: \nO.a. volgende vragen worden tijdens deze opleiding beantwoord: \n\nWaarom is het inroepen van een onverdeeld opstalrecht door een ex-partner een beter alternatief dan de verrijkingsvordering?\nHoe wordt een onverdeeld opstalrecht bewezen door de gewezen samenwoner?\nIs het behoud in onverdeeldheid van de voormalige gezinswoning in de EOT-akte een toevallige mede-eigendom of een vrijwillige mede-eigendom?\nZijn er gevallen waar de rechter partijen in toevallige mede-eigendom toch kan dwingen om in onverdeeldheid te blijven?\nWat is de praktische relevantie van het onderscheid tussen boedelgemeenschap en zaakgemeenschap?\nHoe wordt een eigendomsconflict in familiale context bewijsrechtelijk benaderd?\nWelke uitstapregelingen bestaan bij vrijwillige mede-eigendom?\nIs mede-eigendom tegenstelbaar aan persoonlijke schuldeisers?\nHoe kan zaakvervanging gerealiseerd worden in het giftenrecht?\nHoe wordt juridische vermenging vermeden bij storting van gelden in een gemeenschapsstelsel?\nHeeft een aanwasbeding impact op de verrijkingsvordering?\n…\n\nProgrammaoverzicht \nKnopsPublishing is erkend als opleidingsverstrekker voor het systeem van de KMO-portefeuille. Het accreditatienummer van KnopsPublishing is DV.O245662\, thema: beroepspecifieke competenties \n\nPrijs: € 467 excl. btw per deelnemer\nIk schrijf me in samen met collegae: € 430 excl. btw per deelnemer
URL:https://nl.knopspublishing.be/opleiding/goederenrecht-als-bypass-voor-familiaal-vermogensrecht-zakenrechtelijke-oplossingen-in-familiale-en-relationele-context-20-2-3/
CATEGORIES:Algemeen,Notaris,Opleidingen,Webinar
END:VEVENT
END:VCALENDAR