BEGIN:VCALENDAR
VERSION:2.0
PRODID:-//Knopspublishing - ECPv6.14.1//NONSGML v1.0//EN
CALSCALE:GREGORIAN
METHOD:PUBLISH
X-WR-CALNAME:Knopspublishing
X-ORIGINAL-URL:https://nl.knopspublishing.be
X-WR-CALDESC:Evenementen voor Knopspublishing
REFRESH-INTERVAL;VALUE=DURATION:PT1H
X-Robots-Tag:noindex
X-PUBLISHED-TTL:PT1H
BEGIN:VTIMEZONE
TZID:Europe/Brussels
BEGIN:DAYLIGHT
TZOFFSETFROM:+0100
TZOFFSETTO:+0200
TZNAME:CEST
DTSTART:20230326T010000
END:DAYLIGHT
BEGIN:STANDARD
TZOFFSETFROM:+0200
TZOFFSETTO:+0100
TZNAME:CET
DTSTART:20231029T010000
END:STANDARD
END:VTIMEZONE
BEGIN:VEVENT
DTSTART;TZID=Europe/Brussels:20230510T120000
DTEND;TZID=Europe/Brussels:20230510T180000
DTSTAMP:20260422T131235
CREATED:20230202T101034Z
LAST-MODIFIED:20230427T072821Z
UID:10000553-1683720000-1683741600@nl.knopspublishing.be
SUMMARY:Online ON DEMAND - Het nieuwe verbintenissenrecht - de belangrijkste nieuwigheden van boeken 1 en 5 NBW doorgelicht
DESCRIPTION:Online ON DEMAND vanaf 10 mei 2023 t.e.m. 23 juni 2023 \nDe nieuwe boeken 1 (Algemene bepalingen) en 5 (Verbintenissen) van het Burgerlijk Wetboek zijn in werking getreden sinds 1 januari 2023. \nIn deze studiemiddag willen we kritisch stil staan bij de belangrijkste nieuwigheden en worden meerdere topics grondig belicht\, met aandacht voor de gevolgen ervan in de rechtspraktijk. \n  \nVerwelkoming door de voorzitter – Ralph De Wit (VUB\, advocaat)\nInleidende sessie: krachtlijnen van de boeken 1 en 5 & toepassing in de tijd – Stefan Somers (VUB\,  Ondernemingsrechtbank)\nWisselwerking tussen boeken 1 en 5 – Ludo Cornelis (VUB\, advocaat)\nHet nieuw verbintenissenrecht\, een nieuw evenwicht voor een duurzaam samenleven? – Régine Feltkamp (VUB\, advocaat)\nImprevisieleer – Britt Weyts (UAntwerpen\, advocaat) \nEenzijdige sancties en onwerkzaamheid – Thijs Tanghe (UGent\, advocaat)\nGevolgen van sancties – Ignace Claeys (UGent\, advocaat)\nContractuele aansprakelijkheid voor (gebrekkige) zaken – Thierry Vansweevelt (UAntwerpen\, advocaat)\n \n 
URL:https://nl.knopspublishing.be/opleiding/het-nieuwe-verbintenissenrecht-2/
LOCATION:VUB Brussel\, Pleinlaan 2\, Brussel\, 1050\, België
CATEGORIES:Advocaat,Algemeen,Opleidingen
END:VEVENT
END:VCALENDAR