BEGIN:VCALENDAR
VERSION:2.0
PRODID:-//Knopspublishing - ECPv6.14.1//NONSGML v1.0//EN
CALSCALE:GREGORIAN
METHOD:PUBLISH
X-ORIGINAL-URL:https://nl.knopspublishing.be
X-WR-CALDESC:Evenementen voor Knopspublishing
REFRESH-INTERVAL;VALUE=DURATION:PT1H
X-Robots-Tag:noindex
X-PUBLISHED-TTL:PT1H
BEGIN:VTIMEZONE
TZID:Europe/Brussels
BEGIN:DAYLIGHT
TZOFFSETFROM:+0100
TZOFFSETTO:+0200
TZNAME:CEST
DTSTART:20220327T010000
END:DAYLIGHT
BEGIN:STANDARD
TZOFFSETFROM:+0200
TZOFFSETTO:+0100
TZNAME:CET
DTSTART:20221030T010000
END:STANDARD
END:VTIMEZONE
BEGIN:VEVENT
DTSTART;TZID=Europe/Brussels:20220610T130000
DTEND;TZID=Europe/Brussels:20220610T171500
DTSTAMP:20260423T072018
CREATED:20220420T200357Z
LAST-MODIFIED:20220614T090252Z
UID:10000471-1654866000-1654881300@nl.knopspublishing.be
SUMMARY:"Naar een nieuw ‘fiscaal normaal’?”\, vijfde TBF-congres
DESCRIPTION:Deze opleiding is enkel toegankelijk voor professionele adviseurs met grondige kennis van beleggingsfiscaliteit. Het aantal deelnemers is beperkt om doelgerichte interactie met de sprekers mogelijk te maken. \nDe redactie van het Tijdschrift Beleggingsfiscaliteit nodigt u uit op het eerste lustrum\, waarbij dit jaar het debat wordt gevoerd over een nieuwe manier van denken in de fiscaliteit. \nOnderwerpen en sprekers:  \n\nDanish Cases & ATAD 3: Recente ontwikkelingen inzake de bestrijding van belastingontwijking door middel van tussen geplaatste entiteiten met onvoldoende substantie zgn. “shell entities”\nMevr. Emilie Maes\, Executive Director Transaction Tax by EY en mr. Caroline Borgers\, partner Linklaters\n(taal bijdrage: ENG) \n\n\nRepatriëring van fondsen in het kader circulaire NBB – Witwas in het kader van de verschillende regularisaties – Statuut van de toen gerepatrieerde kapitalen en look-back\nMrs. Sabrina Scarnà\, partner advocatenkantoor TetraLaw\n(taal bijdrage: FR) \n\n\nDe hervorming van de personenbelasting\nProf. Mark Delanote\, professor fiscaal recht UGent en advocaat Delanote Law\n(taal bijdrage: NL)\nKeynote Speaker: Dhr. Georges-Louis Bouchez\, senator en partijvoorzitter MR\nMinder belastingen voor meer werk\, meer koopkracht.\n\nIngeleid en voorgezeten door:\n \n\n Dirk Coveliers\, Tiberghien advocaten\, hoofdredacteur Tijdschrift Beleggingsfiscaliteit in samenwerking met de leden van het Redactiecomite TBF\n\nDeelnameprijzen: \n\nPrijs: € 269 excl. btw als abonnee op het Tijdschrift Beleggingsfiscaliteit lid van Febelfin/BEAMA/PBA/VBO/EBF/Assuralia/EFAMA\nPrijs: € 469 excl. btw\, en ik teken bij deze in op een abonnement op TBF 2022 en geniet hierdoor éénmalig van het uitzonderlijk voordeeltarief\, abonnement en deelnemersprijs inbegrepen\nPrijs:  € 325 excl. btw\, en ik heb geen belangstelling in een abonnement TBF\n\nProgramma \n\n 
URL:https://nl.knopspublishing.be/opleiding/naar-een-nieuw-fiscaal-normaal-tbf-congres/
LOCATION:VBO/FEB\, Ravensteinstraat 4\, Brussel\, 1000
CATEGORIES:Advocaat,Algemeen,Opleidingen
END:VEVENT
END:VCALENDAR