BEGIN:VCALENDAR
VERSION:2.0
PRODID:-//Knopspublishing - ECPv6.14.1//NONSGML v1.0//EN
CALSCALE:GREGORIAN
METHOD:PUBLISH
X-WR-CALNAME:Knopspublishing
X-ORIGINAL-URL:https://nl.knopspublishing.be
X-WR-CALDESC:Evenementen voor Knopspublishing
REFRESH-INTERVAL;VALUE=DURATION:PT1H
X-Robots-Tag:noindex
X-PUBLISHED-TTL:PT1H
BEGIN:VTIMEZONE
TZID:Europe/Brussels
BEGIN:DAYLIGHT
TZOFFSETFROM:+0100
TZOFFSETTO:+0200
TZNAME:CEST
DTSTART:20220327T010000
END:DAYLIGHT
BEGIN:STANDARD
TZOFFSETFROM:+0200
TZOFFSETTO:+0100
TZNAME:CET
DTSTART:20221030T010000
END:STANDARD
END:VTIMEZONE
BEGIN:VEVENT
DTSTART;TZID=Europe/Brussels:20220310T130000
DTEND;TZID=Europe/Brussels:20220310T170000
DTSTAMP:20260423T120521
CREATED:20220117T202904Z
LAST-MODIFIED:20220301T084351Z
UID:10000348-1646917200-1646931600@nl.knopspublishing.be
SUMMARY:Vermogensplanning voor ondernemers - Actuele hangijzers (Webinar)
DESCRIPTION:Opleiding gericht tot vermogensplanners\, gespecialiseerde advocaten\, notarissen en notariële medewerkers \nOndernemen is elke dag opnieuw schakelen en aanpassen aan de realiteit van die dag. Hetzelfde kan gezegd worden van vermogensplanning. De afgelopen jaren kenden we een aantal grondige hervormingen onder meer in het erfrecht\, het huwelijksvermogensrecht\, het vennootschapsrecht\, de Vlaamse Codex Fiscaliteit en het ondernemingsrecht. Daarnaast kregen we tal van nieuwe inzichten in rechtsleer en rechtspraak en wijzigende interpretaties door fiscale administraties. \nWat is de impact van al deze hervormingen op het vermogen van de ondernemer? Waarop dient u als ‘trusted advisor’ van de ondernemer te letten wanneer u hem begeleidt bij het organiseren en structureren van zijn vermogen\, rekening houdende met het belang van zijn vennootschap? \nMultidisciplinariteit is immers één van de essentiële kenmerken van de vermogensplanning. Tijdens deze opleiding besteden we dan ook praktijkgericht aandacht\, over de verschillende rechtstakken heen\, aan een aantal actuele prangende vragen. \nDeze vorming is interactief\, wat u toelaat uw overwegingen in de besloten groep van het beperkt aantal deelnemers voor te leggen en te bediscussieren. Voorkennis is noodzakelijk. \nSpreker:\nTim Roovers\, bestuurder Wealth Structuring Services en geaffilieerd wetenschappelijk medewerker master of laws in het notariaat\, VUB \nProgramma:\nOnder andere volgende thema’s en vragen komen aan bod: \n\nDe vennootschapsaandelen en het huwelijksvermogensrecht: een LAT-relatie?\n\nOver ‘titre et finance’: wie heeft er nu precies welke rechten?\nInbreng en inkorting van geschonken aandelen na Cassatie 7 december 2020\n\n\nDe wisselwerking tussen de statuten en de aandeelhouders-overeenkomst: aandeelhouders laten samenwerken\nDe gunstregeling voor familiale vennootschappen – de positie van de Vlaamse Belastingdienst en enkele markante evoluties in de rechtspraak\nBijzondere aandachtspunten bij het opstellen van een zorgvolmacht van een aandeelhouder\nDe maatschap als opvangnet voor de vennootschap bij onverwachte gebeurtenissen:\n\nEnkele concrete voorbeelden\nDe pro’s en contra’s van de maatschap anno 2022\n\n\n\nVoor ieder thema worden de evoluties en aandachtspunten geanalyseerd\, waarna vervolgens op een praktijkgerichte wijze onderzocht wordt welke planningstechnieken een antwoord zouden kunnen bieden. \nIndien u ons vooraf uw vragen bezorgt\, dan worden deze op anonieme wijze mee behandeld tijdens de uiteenzetting.     \n > Download hier het programma \n\nPrijs: € 411 excl. btw per deelnemer\nIk schrijf me in samen met collegae: € 367 excl. btw per deelnemer
URL:https://nl.knopspublishing.be/opleiding/vermogensplanning-voor-ondernemers-actuele-hangijzers/
CATEGORIES:Advocaat,Algemeen,Notaris,Opleidingen,Webinar
END:VEVENT
BEGIN:VEVENT
DTSTART;TZID=Europe/Brussels:20220322T124500
DTEND;TZID=Europe/Brussels:20220322T180000
DTSTAMP:20260423T120521
CREATED:20220117T203324Z
LAST-MODIFIED:20220317T144619Z
UID:10000350-1647953100-1647972000@nl.knopspublishing.be
SUMMARY:Vermogensplanning voor ondernemers - Actuele hangijzers (Leuven)
DESCRIPTION:Opleiding gericht tot vermogensplanners\, gespecialiseerde advocaten\, notarissen en notariële medewerkers \nOndernemen is elke dag opnieuw schakelen en aanpassen aan de realiteit van die dag. Hetzelfde kan gezegd worden van vermogensplanning. De afgelopen jaren kenden we een aantal grondige hervormingen onder meer in het erfrecht\, het huwelijksvermogensrecht\, het vennootschapsrecht\, de Vlaamse Codex Fiscaliteit en het ondernemingsrecht. Daarnaast kregen we tal van nieuwe inzichten in rechtsleer en rechtspraak en wijzigende interpretaties door fiscale administraties. \nWat is de impact van al deze hervormingen op het vermogen van de ondernemer? Waarop dient u als ‘trusted advisor’ van de ondernemer te letten wanneer u hem begeleidt bij het organiseren en structureren van zijn vermogen\, rekening houdende met het belang van zijn vennootschap? \nMultidisciplinariteit is immers één van de essentiële kenmerken van de vermogensplanning. Tijdens deze opleiding besteden we dan ook praktijkgericht aandacht\, over de verschillende rechtstakken heen\, aan een aantal actuele prangende vragen. \nDeze vorming is interactief\, wat u toelaat uw overwegingen in de besloten groep van het beperkt aantal deelnemers voor te leggen en te bediscussieren. Voorkennis is noodzakelijk. \nSpreker:\nTim Roovers\, bestuurder Wealth Structuring Services en geaffilieerd wetenschappelijk medewerker master of laws in het notariaat\, VUB \nProgramma:\nOnder andere volgende thema’s en vragen komen aan bod: \n\nDe vennootschapsaandelen en het huwelijksvermogensrecht: een LAT-relatie?\n\nOver ‘titre et finance’: wie heeft er nu precies welke rechten?\nInbreng en inkorting van geschonken aandelen na Cassatie 7 december 2020\n\n\nDe wisselwerking tussen de statuten en de aandeelhouders-overeenkomst: aandeelhouders laten samenwerken\nDe gunstregeling voor familiale vennootschappen – de positie van de Vlaamse Belastingdienst en enkele markante evoluties in de rechtspraak\nBijzondere aandachtspunten bij het opstellen van een zorgvolmacht van een aandeelhouder\nDe maatschap als opvangnet voor de vennootschap bij onverwachte gebeurtenissen:\n\nEnkele concrete voorbeelden\nDe pro’s en contra’s van de maatschap anno 2022\n\n\n\nVoor ieder thema worden de evoluties en aandachtspunten geanalyseerd\, waarna vervolgens op een praktijkgerichte wijze onderzocht wordt welke planningstechnieken een antwoord zouden kunnen bieden. \nIndien u ons vooraf uw vragen bezorgt\, dan worden deze op anonieme wijze mee behandeld tijdens de uiteenzetting.     \n > Download hier het programma \n\nPrijs: € 411 excl. btw per deelnemer\nIk schrijf me in samen met collegae: € 367 excl. btw per deelnemer
URL:https://nl.knopspublishing.be/opleiding/vermogensplanning-voor-ondernemers-actuele-hangijzers-200/
LOCATION:Faculty Club\, Groot Begijnhof 14\, Leuven\, 3000\, Belgium
CATEGORIES:Advocaat,Algemeen,Notaris,Opleidingen
END:VEVENT
END:VCALENDAR