BEGIN:VCALENDAR
VERSION:2.0
PRODID:-//Knopspublishing - ECPv6.14.1//NONSGML v1.0//EN
CALSCALE:GREGORIAN
METHOD:PUBLISH
X-WR-CALNAME:Knopspublishing
X-ORIGINAL-URL:https://nl.knopspublishing.be
X-WR-CALDESC:Evenementen voor Knopspublishing
REFRESH-INTERVAL;VALUE=DURATION:PT1H
X-Robots-Tag:noindex
X-PUBLISHED-TTL:PT1H
BEGIN:VTIMEZONE
TZID:Europe/Brussels
BEGIN:DAYLIGHT
TZOFFSETFROM:+0100
TZOFFSETTO:+0200
TZNAME:CEST
DTSTART:20220327T010000
END:DAYLIGHT
BEGIN:STANDARD
TZOFFSETFROM:+0200
TZOFFSETTO:+0100
TZNAME:CET
DTSTART:20221030T010000
END:STANDARD
END:VTIMEZONE
BEGIN:VEVENT
DTSTART;TZID=Europe/Brussels:20220922T130000
DTEND;TZID=Europe/Brussels:20220922T143000
DTSTAMP:20260424T075426
CREATED:20220708T104617Z
LAST-MODIFIED:20220809T121725Z
UID:10000510-1663851600-1663857000@nl.knopspublishing.be
SUMMARY:Efficiënter presteren - Concrete inzichten én technieken - Masterclass 1. Optimalisatie en stressvrij projectmanagement (webinar)
DESCRIPTION:Opleiding bestemd voor het notariskantoor\, met bijzondere accenten voor de notariële medewerkers\nInschrijven enkel mogelijk na het volgen van de basistrainingsdagen  \nAls notaris en notarieel medewerker ervaart u dagelijks de druk en stress van deadlines\, termijnen\, veeleisend cliënteel en hun bijhorende verwachtingen. \nNadat u deelgenomen heeft aan de meerdaagse basistraining\, kan u zich verder verdiepen in de materie dankzij de masterclasses. Op die manier haalt u nog meer uit uw investering. Concrete inzichten en technieken verfijnen uw vaardigheden om constructief om te gaan met bepaalde situaties zoals timemanagement\, hinderlijk perfectionisme\, moeilijke werksituaties\, enzovoort \nNa deelname aan de meerdaagse basistraining\, kan u zich verder verdiepen in: \nMASTERCLASSES 1: Optimalisatie en stressvrij projectmanagement \nProgrammaoverzicht \n*Inschrijvingsprijs inclusief documentatie. \nU hoeft geen software te downloaden. Uw registratie gebeurt op basis van uw e-mailadres. U hoeft enkel te klikken op de persoonlijke link die u kort vooraf ontvangt. \n\nPrijs MASTERCLASS 1: € 381 excl. btw per deelnemer
URL:https://nl.knopspublishing.be/opleiding/optimalisatie-en-stressvrij-projectmanagement/
CATEGORIES:Algemeen,Notaris,Opleidingen,Webinar
END:VEVENT
END:VCALENDAR