BEGIN:VCALENDAR
VERSION:2.0
PRODID:-//Knopspublishing - ECPv6.14.1//NONSGML v1.0//EN
CALSCALE:GREGORIAN
METHOD:PUBLISH
X-ORIGINAL-URL:https://nl.knopspublishing.be
X-WR-CALDESC:Evenementen voor Knopspublishing
REFRESH-INTERVAL;VALUE=DURATION:PT1H
X-Robots-Tag:noindex
X-PUBLISHED-TTL:PT1H
BEGIN:VTIMEZONE
TZID:Europe/Brussels
BEGIN:DAYLIGHT
TZOFFSETFROM:+0100
TZOFFSETTO:+0200
TZNAME:CEST
DTSTART:20220327T010000
END:DAYLIGHT
BEGIN:STANDARD
TZOFFSETFROM:+0200
TZOFFSETTO:+0100
TZNAME:CET
DTSTART:20221030T010000
END:STANDARD
END:VTIMEZONE
BEGIN:VEVENT
DTSTART;TZID=Europe/Brussels:20220120T123000
DTEND;TZID=Europe/Brussels:20220120T140000
DTSTAMP:20260424T210854
CREATED:20210512T112747Z
LAST-MODIFIED:20210611T115656Z
UID:10000334-1642681800-1642687200@nl.knopspublishing.be
SUMMARY:Masterclasses - Efficiënter presteren - Concrete inzichten én technieken - opleiding notarieel management - MASTERCLASS 2
DESCRIPTION:Opleiding bestemd voor het notariskantoor\, met bijzondere accenten voor de notariële medewerkers\n– Inschrijven enkel mogelijk na het volgen van de fundamentele 4-daagse BASISopleiding – \nAls notaris en notarieel medewerker ervaart u dagelijks de druk en stress van deadlines\, termijnen\, veeleisend cliënteel en hun bijhorende verwachtingen. \nNadat u deelgenomen heeft aan de meerdaagse fundamentele training\, kan u zich verder verdiepen in de materie dankzij de masterclasses. Op die manier haalt u nog meer uit uw investering. Concrete inzichten en technieken verfijnen uw vaardigheden om constructief om te gaan met bepaalde situaties zoals timemanagement\, hinderlijk perfectionisme\, moeilijke werksituaties\, enzovoort. \nStudiedag met docent en begeleiding van Meester Jeff Keustermans\, advocaat\, auteur en ervaringsdeskundige. \nMASTERCLASS 2 in webinar:\n \n\nDonderdag 20 januari 2022 – (Hinderlijk vs. efficiënt) perfectionisme\n\nvan 12u30-14u00 (zonder pauze) \nProgrammaoverzicht \n*Inschrijvingsprijs inclusief documentatie. \nU hoeft geen software te downloaden. Uw registratie gebeurt op basis van uw e-mailadres. U hoeft enkel te klikken op \nde persoonlijke link die u kort vooraf ontvangt. \n\nPrijs MASTERCLASS 2: € 381 excl. btw per deelnemer
URL:https://nl.knopspublishing.be/opleiding/masterclasses-efficienter-presteren-concrete-inzichten-en-technieken-opleiding-notarieel-management-masterclass-20/
CATEGORIES:Algemeen,Notaris,Opleidingen
END:VEVENT
BEGIN:VEVENT
DTSTART;TZID=Europe/Brussels:20220121T100000
DTEND;TZID=Europe/Brussels:20220121T163000
DTSTAMP:20260424T210854
CREATED:20211002T140936Z
LAST-MODIFIED:20211205T140132Z
UID:10000404-1642759200-1642782600@nl.knopspublishing.be
SUMMARY:Webinar 4-daagse BASIS training notarieel management - Efficiënter presteren - Concrete inzichten én technieken
DESCRIPTION:Inschrijven enkel mogelijk via mail info@knopspublishing.be of fax 014/73 89 50\nOpleiding bestemd voor het notariskantoor\, met bijzondere accenten voor de notariële medewerkers \n4-daagse BASISOPLEIDING in WEBINAR:\nDag 1: vrijdag 21 januari 2022\, van 10u00 tot 16u30\nDag 2: vrijdag 4 februari 2022\, van 13u30 tot 16u30\nDag 3: vrijdag 18 februari 2022\, van 13u30 tot 14u30\nDag 4: vrijdag 11 maart 2022\, van 13u30 tot 14u30 \nDeze notariële opleiding wordt eveneens in 3 dagen LIVE aangeboden – Stee 23 B&B\, Papenvijversstraat 23\, Oostkamp op:\nDag 1: vrijdag 22 april 2022\, van 12u45-18u00\nDag 2: vrijdag 6 mei 2022\, van 12u45-18u00\nDag 3: vrijdag 3 juni 2022\, van 12u45-18u00\nDe inhoud is identiek. U hebt de keuze in functie van uw persoonlijke voorkeur. Combineren tussen beide is niet mogelijk.\n \nAls notaris en notarieel medewerker ervaart u dagelijks de druk en stress van deadlines\, termijnen\, veeleisend cliënteel en hun bijhorende verwachtingen. \nMet deze meerdaagse opleiding/training (a.d.h.v. concrete korte dagelijkse oefeningen) versterkt u zichzelf en uw team in stresserende situaties. Deze investering\, die als teambuilding en/of zelfzorg kan beschouwd worden\, gaat een carrièrelang mee. \nStudiedagen met docent en begeleiding van: Jeff Keustermans\, advocaat aan de balie Brussel en New York\, ervaringsdeskundige\, auteur Tijdschrift Notarieel Management\, begeleidt uw team op een no nonsense manier naar (zelf)kennis\, (zelf)vertrouwen\, energie\, focus en een versterkte efficiëntie. Zijn trainingen zijn erkend bij de OVB\, just.fgov.be\, Koninklijke Notariële Beroepsfederatie (Nederland)\, Nederlandse Orde van Advocaten. \nProgramma: 4-daagse Basisopleiding in webinar of 3-daagse Basisopleiding live te Oostkamp \nOnder andere volgende vragen komen aan bod: \n\nHoe ontstaat stress en hoe leer ik deze stil te leggen?\nHoe vermijd ik energieverspilling en leer ik mijn energie optimaal aanwenden?\nHoe bereik ik meer rust\, energie\, focus en vertrouwen in mijn leven en en in mijn notariaat?\nWaarom bereik ik de krachtigste controle over mezelf via mijn onbewuste brein\, en hoe stuur ik dat aan? \nWelke elementen dragen bij tot een evenwichtig leven\, dat ik een leven lang met plezier kan volhouden? \nToepassing van de inzichten m.v. concrete trainingstechniek.\n\n ***Na het volgen van de fundamentele opleiding/training\, wordt de materie verder uitgediept in masterclasses. U kan zich hiervoor desgewenst afzonderlijk inschrijven .*** \nPrgrammaoverzicht \nInschrijvingsprijs incl. persoonlijk uitgebreid congres- en invulboek. \nAnonieme deelname bij interactief webinar. U hoeft geen software te downloaden: uw registratie gebeurt op basis van uw e-mailadres. U hoeft enkel te klikken op de persoonlijke link die u vooraf ontvangt. \n\nPrijs 4-daagse Basisopleiding deelnemer 1: € 1487 excl. btw\nPrijs 4-daagse Basisopleiding deelnemer 2: € 742\,50 excl. btw\nPrijs 4-daagse Basisopleiding vanaf deelnemer 3: € 295 excl. btw\nDeelname per kantoor (in-house) à € 8386 excl. btw
URL:https://nl.knopspublishing.be/opleiding/4-daagse-basis-training-notarieel-management-efficienter-presteren-concrete-inzichten-en-technieken-2/
CATEGORIES:Algemeen,Notaris,Opleidingen,Webinar
END:VEVENT
END:VCALENDAR