BEGIN:VCALENDAR
VERSION:2.0
PRODID:-//Knopspublishing - ECPv6.14.1//NONSGML v1.0//EN
CALSCALE:GREGORIAN
METHOD:PUBLISH
X-ORIGINAL-URL:https://nl.knopspublishing.be
X-WR-CALDESC:Evenementen voor Knopspublishing
REFRESH-INTERVAL;VALUE=DURATION:PT1H
X-Robots-Tag:noindex
X-PUBLISHED-TTL:PT1H
BEGIN:VTIMEZONE
TZID:Europe/Brussels
BEGIN:DAYLIGHT
TZOFFSETFROM:+0100
TZOFFSETTO:+0200
TZNAME:CEST
DTSTART:20220327T010000
END:DAYLIGHT
BEGIN:STANDARD
TZOFFSETFROM:+0200
TZOFFSETTO:+0100
TZNAME:CET
DTSTART:20221030T010000
END:STANDARD
END:VTIMEZONE
BEGIN:VEVENT
DTSTART;TZID=Europe/Brussels:20221201T093000
DTEND;TZID=Europe/Brussels:20221201T180000
DTSTAMP:20260421T110142
CREATED:20220512T134557Z
LAST-MODIFIED:20221026T122551Z
UID:10000481-1669887000-1669917600@nl.knopspublishing.be
SUMMARY:Workshop Vereffening en verdeling na echtscheiding - Dag 2 - VOLZET
DESCRIPTION:Opleiding i.s.m. de Opleiding Notariaat van de VUB \nINSCHRIJVING ENKEL VOOR DAG 2 = LIVE WORKSHOP: 1 december 2022 (zonder studiedag) \nDag 1: Online webinar ‘Principes en knelpunten aan de hand van praktijkvoorbeelden’\nDag 2: Live ‘Workshop met oefeningen aan de hand van het Excel-rekenschema’ \nDeze vorming bestaat uit twee delen: \nDag 1: Tijdens de online studienamiddag worden de basisbeginselen en knelpunten inzake de vereffening-verdeling na echtscheiding behandeld. Deze studienamiddag bereidt de deelnemers voor op de workshop\, waar aan de slag wordt gegaan met concrete dossiers inzake vereffening-verdeling na echtscheiding. Aan de hand van een reële casus en van recente rechtspraak en rechtsleer wordt ingegaan op de meest voorkomende pijnpunten. Er wordt ook stilgestaan bij de impact van de hervorming van het huwelijksvermogensrecht op de vereffening-verdeling na echtscheiding. \nDag 2: Tijdens de live workshop krijgen de deelnemers praktische vaardigheden aangeleerd aan de hand van het Excel-rekenschema. De deelnemers maken kennis met de opbouw van dit schema; zij leren aan de hand van reële casussen de diverse bewerkingen aan en zij leren de daarmee gepaard gaande knelpunten inzake vereffening-verdeling op te lossen. Deelnemers wordt gevraagd hun laptop mee te brengen. Voor deze workshop is een kennis van de basisbeginselen van Excel en van de theoretische principes inzake de vereffening-verdeling na echtscheiding ten sterkste aanbevolen. \nSprekers:\nProf. dr. Elisabeth Alofs (hoofddocent en directeur Opleiding Notariaat VUB)\nDra. Anne-Sophie Vandenbosch (assistente VUB en stagiaire gerechtsdeurwaarder)\nTim Roovers (Partner at Sansen International Tax Lawyers\, medewerker Opleiding Notariaat VUB) \nProgramma: \nVolgende thema’s en vragen komen onder meer aan bod: \n\nOntbindingstijdstip huwelijksvermogensstelsel: Hoe beïnvloeden meerdere echtscheidingsvorderingen of een verzoening het tijdstip van ontbinding van het huwelijksstelsel?\nDe kwalificatie van activa: Zijn auteursrechten\, cliënteel\, vennootschapsaandelen of een schadevergoeding voor lichamelijke en morele schade eigen of gemeenschappelijk? Wanneer is er sprake van wederbelegging? Hoe worden levens- en andere verzekeringen huwelijksvermogensrechtelijk gekwalificeerd?\nDe kwalificatie van passiva: Wanneer wordt een schuld als gemeenschappelijk beschouwd? Welk statuut hebben onderhoudsgelden?\nHuwelijksvermogensrechtelijke vergoedingsrekeningen: Is vergoeding verschuldigd voor werken aan een eigen goed? Wanneer mag de vergoeding worden geherwaardeerd?\nBeheersrekening m.i.v. de woonvergoeding: Wanneer is de woonvergoeding verschuldigd en (hoe) dient deze te worden verrekend?\nBecijferde rechten\, kavelvorming en opleg: Wanneer is er sprake van heling? Wat indien een echtgenoot voor de inleiding van de echtscheidingsvordering gelden afhaalt van de rekening? Wat is de verhouding tussen de preferentiële toewijzing en het recht op terugname na inbreng?\nHet in 2018 gewijzigde huwelijksvermogensrecht: Welke wijzigingen bracht de hervorming van het huwelijksvermogens-recht (Wet 22 juli 2018 tot wijziging van het Burgerlijk Wetboek en diverse andere bepalingen wat het huwelijksvermogens-recht betreft en tot wijziging van de wet van 31 juli 2017 tot wijziging van het Burgerlijk Wetboek wat de erfenissen en de giften betreft en tot wijziging van diverse bepalingen ter zake) voor de vereffening-verdeling na echtscheiding?\nCodificatie van het relatievermogensrecht in 2022: Welke impact heeft de codificatie van het familiaalvermogensrecht in boek 2\, titel 3 van het Burgerlijk Wetboek (Wet 19 januari 2022 houdende boek 2\, titel 3\, “Relatievermogensrecht” en boek 4 “Nalatenschappen\, schenkingen en testamenten” van het Burgerlijk Wetboek) voor de vereffening-verdeling na echtscheiding?\n\nProgrammaoverzicht \nOpleiding enkel toegankelijk voor (kandidaat-)notarissen\, notariële stagiairs\, medewerkers en advocaten. Het aantal deelnemers is beperkt om doelgerichte interactie met de sprekers mogelijk te maken. \nID-nummer in te vullen indien van toepassing voor het toekennen van de aanwezigheidsattesten. \n\nPrijs: € 545 excl. btw per deelnemer\nIk schrijf me in samen met collegae: € 520 excl. btw per deelnemer
URL:https://nl.knopspublishing.be/opleiding/workshop-vereffening-en-verdeling-na-echtscheidingleuven-dec2022-1-2/
LOCATION:Faculty Club\, Groot Begijnhof 14\, Leuven\, 3000\, Belgium
CATEGORIES:Advocaat,Algemeen,Notaris,Opleidingen
END:VEVENT
BEGIN:VEVENT
DTSTART;TZID=Europe/Brussels:20220329T124500
DTEND;TZID=Europe/Brussels:20220329T180000
DTSTAMP:20260421T110142
CREATED:20211206T152815Z
LAST-MODIFIED:20220317T144352Z
UID:10000423-1648557900-1648576800@nl.knopspublishing.be
SUMMARY:Live - Schenkingen: fiscale aandachtspunten
DESCRIPTION:Opleiding enkel toegankelijk voor (kandidaat-)notarissen\, stagiairs en notariële medewerkers \nTijdens deze grondige opleiding krijgt u\, aan de hand van concrete dossiers uit uw praktijk\, inzicht in de fiscale aandachtspunten inzake schenkingen. Zowel schenkingen van levensverzekeringen\, schenkingen in het buitenland\, non-profit schenkingen enz. komen daarbij aan bod. Daarnaast wordt ook ingegaan op een aantal actuele vragen\, zoals de standpunten van VLABEL inzake gesplitste inschrijvingen. \nSprekers:\nNicolas Geelhand de Merxem\, partner advocaat ECGB advocaten\nKim Raets\, advocaat ECGB advocaten \nProgramma:\n \nVolgende topics komen aan bod: \n\nSchenking van een levensverzekering/een verzekeringsbelegging;\nInbreng onroerend goed in de huwgemeenschap gevolgd door een schenking aan de kinderen;\nSchenking roerend goed via buitenlandse notaris en alternatieven;\nBijzondere aansprakelijkheidsregeling en de schenking binnen de verdachte periode van 3 jaar vóór het overlijden;\nNon-profitschenkingen;\nDe rechtstreekse schenking bij onderhandse akte;\nDe “ik opa”-schenking;\nDe uitbreng/overstap naar scheiding van goederen en de eenzijdige schenking (met fideicommissum de residuo);\nDe verkoop/verdeling gevolgd door de schenking van een vordering;\nDe schenking met fideicommissum de residuo;\nDe schenking en de extraneïteitselementen.\n\nDaarnaast wordt ook ingegaan op een aantal actuele vragen: \n\nWelke aandachtspunten zijn er bij schenkingen in het sterfhuis?\nIs de onderhandse schenking via het aandelenregister geldig?\nWaar moet de notaris op letten wanneer het familiebedrijf wordt geschonken?\nWat moet er worden onthouden uit de recente standpunten van VLABEL inzake gesplitste inschrijvingen?\n\nProgrammaoverzicht \n  \n\nPrijs: € 411 excl. btw per deelnemer\nIk schrijf me in samen met collegae: € 367 excl. btw per deelnemer
URL:https://nl.knopspublishing.be/opleiding/schenkingen-fiscale-aandachtspunten-400/
LOCATION:Faculty Club\, Groot Begijnhof 14\, Leuven\, 3000\, Belgium
CATEGORIES:Algemeen,Notaris,Opleidingen
END:VEVENT
BEGIN:VEVENT
DTSTART;TZID=Europe/Brussels:20220325T121500
DTEND;TZID=Europe/Brussels:20220325T170000
DTSTAMP:20260421T110142
CREATED:20220104T083654Z
LAST-MODIFIED:20220317T144537Z
UID:10000439-1648210500-1648227600@nl.knopspublishing.be
SUMMARY:Live - Wapenwetgeving in de politiepraktijk: overzicht rechtspraak\, actualia en regelgeving\, én blik op de toekomst
DESCRIPTION:Opleiding exclusief voorbehouden aan overheidsfunctionarissen \nAan de hand van de nieuwe editie van het Compendium Wapenwetgeving geven drie ervaren sprekers u\, op twee locaties\, een heldere en praktische toelichting bij de nieuwigheden ter zake. Zo blijft u niet (langer) op uw honger zitten omtrent de vigerende bepalingen en de actuele aandachtspunten bij te verlenen adviezen. En zo weet u – letterlijk – waar u naar en voor dient uit te kijken\, niet enkel morgen\, maar ook vandaag (bv. bij huiszoekingen). \nDe doorgevoerde wijzigingen in de wapenreglementering worden door de heer Peter De Smet\, advocaat-generaal bij het parket hof van beroep te Gent praktijkgericht belicht en toegelicht. Hij werpt samen met u ook een blik op hetgeen momenteel in de pipeline steekt. \nMevrouw Mary-Ann De Beuckelaer bespreekt vervolgens hot topics uit de rechtspraak van de Raad van State\, die u als leidraad bij uw adviezen kunt hanteren. Bijvoorbeeld rechtspraak inzake schorsings- en intrekkingsbeslissingen van vergunningen\, erkenningen en het recht om wapens voorhanden te houden. Ook geeft mevrouw De Beuckelaer u op een begrijpelijke wijze inzicht in het juridisch kader. \nTen slotte\, en nieuw\, is er ook een niet-juridisch luik voorzien. Hoofdinspecteur Christophe Dhondt\, onbestreden expert ter zake\, zal u confronteren met verontrustende vaststellingen en evoluties in de productie van vuurwapens (transformatie\, home-made\, 3D-printing\, …). Evoluties die onafwendbaar lijken. \nNa afloop is de nodige tijd en ruimte voorzien voor debat en vragen. \nSpreker:\nMary-Ann De Beuckelaer\, attaché federale wapendienst\nPeter De Smet\, advocaat-generaal bij het hof van beroep te Gent\, veelgevraagd spreker en onbetwiste autoriteit inzake wapenwetgeving. Bijna twee decennia volgt hij deze materie op de voet\, doceert en publiceert hij erover.\nChristophe Dhondt\, HINP lokale politie Kortrijk \nEen greep uit de onderwerpen die zeker aan bod zullen komen\, theoretisch en praktisch: \n\nUpdate wapenwetgeving\n\nMarkering vuurwapens\nGeneutraliseerde vuurwapens\nEuropese doormelding weigering/intrekking vergunning\nAankomende wijzigingen in de regelgeving\nRechtspraak: overname ‘illegale’ wapens door vergunningsvrijgestelden\n…\n\n\nHet preventieve uitgangspunt van de wapenwet: wat is nog redelijk?\nDe motiveringsplicht: wat is de rol van de adviesverlener?\nBehoorlijk bestuur en behoorlijk burgerschap: is de zorgvuldigheidsnorm geen tweesnijdend zwaard?\nZelfbouwvuurwapens binnen ieders bereik: is de doos van Pandora definitief geopend?\n\nProgrammaoverzicht \nDeze opleiding richt zich uitsluitend tot overheidsprofessionals\, zoals leden van de politie-\, inlichtingen-  en inspectiediensten\, van de toezichtsorganen\, van de diensten van de gouverneur\, van de FOD BiZa en Justitie\, van de magistratuur\, … Opnieuw wordt geopteerd\nvoor een besloten kader teneinde net een maximale openheid van de communicatie te kunnen bewerkstelligen en beroepservaringen ongehinderd te kunnen uitwisselen\, alles onder de Chatham House Rules. \n\nPrijs: € 247 excl. btw per deelnemer\nIk schrijf me in samen met collegae: € 213 excl. btw per deelnemer
URL:https://nl.knopspublishing.be/opleiding/wapenwetgeving-in-de-politiepraktijk-3/
LOCATION:Faculty Club\, Groot Begijnhof 14\, Leuven\, 3000\, Belgium
CATEGORIES:Algemeen,Lokale besturen,Opleidingen
END:VEVENT
BEGIN:VEVENT
DTSTART;TZID=Europe/Brussels:20220322T124500
DTEND;TZID=Europe/Brussels:20220322T180000
DTSTAMP:20260421T110142
CREATED:20220117T203324Z
LAST-MODIFIED:20220317T144619Z
UID:10000350-1647953100-1647972000@nl.knopspublishing.be
SUMMARY:Vermogensplanning voor ondernemers - Actuele hangijzers (Leuven)
DESCRIPTION:Opleiding gericht tot vermogensplanners\, gespecialiseerde advocaten\, notarissen en notariële medewerkers \nOndernemen is elke dag opnieuw schakelen en aanpassen aan de realiteit van die dag. Hetzelfde kan gezegd worden van vermogensplanning. De afgelopen jaren kenden we een aantal grondige hervormingen onder meer in het erfrecht\, het huwelijksvermogensrecht\, het vennootschapsrecht\, de Vlaamse Codex Fiscaliteit en het ondernemingsrecht. Daarnaast kregen we tal van nieuwe inzichten in rechtsleer en rechtspraak en wijzigende interpretaties door fiscale administraties. \nWat is de impact van al deze hervormingen op het vermogen van de ondernemer? Waarop dient u als ‘trusted advisor’ van de ondernemer te letten wanneer u hem begeleidt bij het organiseren en structureren van zijn vermogen\, rekening houdende met het belang van zijn vennootschap? \nMultidisciplinariteit is immers één van de essentiële kenmerken van de vermogensplanning. Tijdens deze opleiding besteden we dan ook praktijkgericht aandacht\, over de verschillende rechtstakken heen\, aan een aantal actuele prangende vragen. \nDeze vorming is interactief\, wat u toelaat uw overwegingen in de besloten groep van het beperkt aantal deelnemers voor te leggen en te bediscussieren. Voorkennis is noodzakelijk. \nSpreker:\nTim Roovers\, bestuurder Wealth Structuring Services en geaffilieerd wetenschappelijk medewerker master of laws in het notariaat\, VUB \nProgramma:\nOnder andere volgende thema’s en vragen komen aan bod: \n\nDe vennootschapsaandelen en het huwelijksvermogensrecht: een LAT-relatie?\n\nOver ‘titre et finance’: wie heeft er nu precies welke rechten?\nInbreng en inkorting van geschonken aandelen na Cassatie 7 december 2020\n\n\nDe wisselwerking tussen de statuten en de aandeelhouders-overeenkomst: aandeelhouders laten samenwerken\nDe gunstregeling voor familiale vennootschappen – de positie van de Vlaamse Belastingdienst en enkele markante evoluties in de rechtspraak\nBijzondere aandachtspunten bij het opstellen van een zorgvolmacht van een aandeelhouder\nDe maatschap als opvangnet voor de vennootschap bij onverwachte gebeurtenissen:\n\nEnkele concrete voorbeelden\nDe pro’s en contra’s van de maatschap anno 2022\n\n\n\nVoor ieder thema worden de evoluties en aandachtspunten geanalyseerd\, waarna vervolgens op een praktijkgerichte wijze onderzocht wordt welke planningstechnieken een antwoord zouden kunnen bieden. \nIndien u ons vooraf uw vragen bezorgt\, dan worden deze op anonieme wijze mee behandeld tijdens de uiteenzetting.     \n > Download hier het programma \n\nPrijs: € 411 excl. btw per deelnemer\nIk schrijf me in samen met collegae: € 367 excl. btw per deelnemer
URL:https://nl.knopspublishing.be/opleiding/vermogensplanning-voor-ondernemers-actuele-hangijzers-200/
LOCATION:Faculty Club\, Groot Begijnhof 14\, Leuven\, 3000\, Belgium
CATEGORIES:Advocaat,Algemeen,Notaris,Opleidingen
END:VEVENT
END:VCALENDAR